BEGIN:VCALENDAR
VERSION:2.0
PRODID:-//ChamberMaster//Event Calendar 2.0//EN
METHOD:PUBLISH
X-PUBLISHED-TTL:P3D
REFRESH-INTERVAL:P3D
CALSCALE:GREGORIAN
BEGIN:VEVENT
DTSTART:20210423T150000Z
DTEND:20210423T193000Z
X-MICROSOFT-CDO-ALLDAYEVENT:FALSE
SUMMARY:Women in IT Virtual Conference
DESCRIPTION:Eastern Iowa Community Colleges is excited bring back its annual Women in IT Conference this spring\, with a great line-up of speakers and presentations\, all delivered virtually\, absolutely free of charge! Hosted by the EICC Information Technology programs\, this event is for women working in technology related fields\, current students or those who may be considering a technology career. This year's virtual conference will take place Friday\, April 23 from 10   2:30 p.m. To register for the free event\, visit eicc.edu/WIT Keynote Speaker\, Parady Boatwright\, will kick-off the event with her amazing story of hard work and perseverance. Boatwright has struggled through much in life to successfully establish her own business\, Wheatfield Partners\, placing IT candidates and others in both permanent and consulting roles. Boatwright's Cambodian and Chinese parents were refugees from the brutal Khmer Rouge regime of Cambodian leader Pol Pot. She was born in Paris\, adopted and raised by a retired French couple surrounded by wheat and cornfields. When her adopted mother died after suffering multiple strokes\, her adopted father sent the teenage Boatwright to the United States to finish school in St. Louis. In addition to the keynote speaker\, attendees will take part in a number of great breakout sessions featuring female leaders in the industry. Breakout sessions:   Future of Messaging   Data Analytics Through Power Business Intelligence   Managing an Esports League with Google Apps   Word Reboot: Five Strategies to Work Health and Fit   Ctrl Alt Compete   Project Discussion: To ID & Implement Processes for COVID-19 Vaccination Management
X-ALT-DESC;FMTTYPE=text/html:Eastern Iowa Community Colleges is excited bring back its annual Women in IT Conference this spring\, with a great line-up of speakers and presentations\, all delivered virtually\, absolutely free of charge! Hosted by the EICC Information Technology programs\, this event is for women working in technology related fields\, current students or those who may be considering a technology career. This year&rsquo\;s virtual conference will take place Friday\, April 23 from 10 &ndash\; 2:30 p.m. To register for the free event\, visit eicc.edu/WIT Keynote Speaker\, Parady Boatwright\, will kick-off the event with her amazing story of hard work and perseverance. Boatwright has struggled through much in life to successfully establish her own business\, Wheatfield Partners\, placing IT candidates and others in both permanent and consulting roles. Boatwright&rsquo\;s Cambodian and Chinese parents were refugees from the brutal Khmer Rouge regime of Cambodian leader Pol Pot. She was born in Paris\, adopted and raised by a retired French couple surrounded by wheat and cornfields. When her adopted mother died after suffering multiple strokes\, her adopted father sent the teenage Boatwright to the United States to finish school in St. Louis. In addition to the keynote speaker\, attendees will take part in a number of great breakout sessions featuring female leaders in the industry. Breakout sessions: &bull\; Future of Messaging &bull\; Data Analytics Through Power Business Intelligence &bull\; Managing an Esports League with Google Apps &bull\; Word Reboot: Five Strategies to Work Health and Fit &bull\; Ctrl Alt Compete &bull\; Project Discussion: To ID &amp\; Implement Processes for COVID-19 Vaccination Management
LOCATION:Online
UID:e.2843.18802
SEQUENCE:3
DTSTAMP:20260421T014333Z
URL:https://member.quadcitieschamber.com/events/details/women-in-it-virtual-conference-18802
END:VEVENT

END:VCALENDAR
