BEGIN:VCALENDAR
VERSION:2.0
PRODID:-//ChamberMaster//Event Calendar 2.0//EN
METHOD:PUBLISH
X-PUBLISHED-TTL:P3D
REFRESH-INTERVAL:P3D
CALSCALE:GREGORIAN
BEGIN:VEVENT
DTSTART:20200723T130000Z
DTEND:20200723T150000Z
X-MICROSOFT-CDO-ALLDAYEVENT:FALSE
SUMMARY:Women Lead Change Virtual Workshop: Ignite Your Shift: Overcoming the Discomfort of Change with Anne Bonney
DESCRIPTION:In this engaging (and fun!) presentation\, Anne Bonney\, Change Management authority and author\, will spark your courage with the ground-breaking concepts from her red-hot book by the same name\, GET OVER IT! You'll have to turn up the AC for this high energy\, "bring the heat" presentation. You will leave armed with strategies to extinguish the burning inferno that transition has caused in your organization and in yourself. In this session you will learn:   How to immediately impact your culture to one of acceptance and engagement\, increasing productivity   To alleviate the burden of stress that change has caused in your organization and yourself   How to reduce "water cooler" talk that negatively influences attitudes\, communication and results within the workplace.
X-ALT-DESC;FMTTYPE=text/html:In this engaging (and fun!) presentation\, Anne Bonney\, Change Management authority and author\, will spark your courage with the ground-breaking concepts from her red-hot book by the same name\, GET OVER IT! You&rsquo\;ll have to turn up the AC for this high energy\, &ldquo\;bring the heat&rdquo\; presentation. You will leave armed with strategies to extinguish the burning inferno that transition has caused in your organization and in yourself. In this session you will learn: &bull\; How to immediately impact your culture to one of acceptance and engagement\, increasing productivity &bull\; To alleviate the burden of stress that change has caused in your organization and yourself &bull\; How to reduce &quot\;water cooler&quot\; talk that negatively influences attitudes\, communication and results within the workplace.
LOCATION:Virtual
UID:e.2843.17892
SEQUENCE:3
DTSTAMP:20260421T155330Z
URL:https://member.quadcitieschamber.com/events/details/women-lead-change-virtual-workshop-ignite-your-shift-overcoming-the-discomfort-of-change-with-anne-bonney-17892
END:VEVENT

END:VCALENDAR
