BEGIN:VCALENDAR
VERSION:2.0
PRODID:-//ChamberMaster//Event Calendar 2.0//EN
METHOD:PUBLISH
X-PUBLISHED-TTL:P3D
REFRESH-INTERVAL:P3D
CALSCALE:GREGORIAN
BEGIN:VEVENT
DTSTART:20121213T164500Z
DTEND:20121213T190000Z
X-MICROSOFT-CDO-ALLDAYEVENT:FALSE
SUMMARY:Womenâ€™s Leadership Council Power of the Purse Auction & Wi
DESCRIPTION:Give our local children an equal start in life.  Join us for the Power of the Purse silent and liveauctions and spend lunch with friends as Terie Dreussi-Smith\, nationally recognized speaker\, presentsBridges Out of Poverty.  \n\nThursday\, December 13\, 2012\nRegistration Opens: 10:30AM \nSilent Purse Auction - 10:45AM - 11:30AM\nLuncheon & Live Purse Auction - 11:30AM - 1:00PM\n\nJumer's Casino &Hotel\n777 Jumer Drive\, Rock Island\n\n$35/ticket ($10 of every ticket will go toward the WLC's EarlyLearning Campaign)\n$250/table of 8\n\nRSVP at http://tinyurl.com/wlcwinterlunch or contact Amy Barnett at 563-344-0328 or by email at abarnett@unitedwayqc.org.\n\nQuestions or have a gently used ornew purse to donate? Contact Jennifer Dobrunz at 563-344-0317 or by email at jdobrunz@unitedwayqc.org.\n\nABOUT WLC: The WLC is mobilizing the power of Quad City women to ensure all of our local children are prepared for success in life. All proceeds will go toward helping local children receive quality child care and education.
X-ALT-DESC;FMTTYPE=text/html:Give our local children an equal start in life.  Join us for the Power of the Purse silent and liveauctions and spend lunch with friends as Terie Dreussi-Smith\, nationally recognized speaker\, presentsBridges Out of Poverty.  \n\nThursday\, December 13\, 2012\nRegistration Opens: 10:30AM \nSilent Purse Auction - 10:45AM - 11:30AM\nLuncheon & Live Purse Auction - 11:30AM - 1:00PM\n\nJumer's Casino &Hotel\n777 Jumer Drive\, Rock Island\n\n$35/ticket ($10 of every ticket will go toward the WLC's EarlyLearning Campaign)\n$250/table of 8\n\nRSVP at http://tinyurl.com/wlcwinterlunch or contact Amy Barnett at 563-344-0328 or by email at abarnett@unitedwayqc.org.\n\nQuestions or have a gently used ornew purse to donate? Contact Jennifer Dobrunz at 563-344-0317 or by email at jdobrunz@unitedwayqc.org.\n\nABOUT WLC: The WLC is mobilizing the power of Quad City women to ensure all of our local children are prepared for success in life. All proceeds will go toward helping local children receive quality child care and education.\n
LOCATION:
UID:e.2843.94
SEQUENCE:3
DTSTAMP:20260421T135810Z
URL:https://member.quadcitieschamber.com/events/details/women&#226;-s-leadership-council-power-of-the-purse-auction-wi-12-13-2012-94
END:VEVENT

END:VCALENDAR
