BEGIN:VCALENDAR
VERSION:2.0
PRODID:-//ChamberMaster//Event Calendar 2.0//EN
METHOD:PUBLISH
X-PUBLISHED-TTL:P3D
REFRESH-INTERVAL:P3D
CALSCALE:GREGORIAN
BEGIN:VEVENT
DTSTART:20190504T150000Z
DTEND:20190504T200000Z
X-MICROSOFT-CDO-ALLDAYEVENT:FALSE
SUMMARY:World Labyrinth Day
DESCRIPTION:Held at Our Lady of the Prairie Retreat Center near Wheatland\, Iowa. On World Labyrinth Day we begin with an introduction to the labyrinth then walk the labyrinth after lunch (lunch included). Good for beginner or enthusiast and an opportunity to engage family/community and amplify collective energy.
X-ALT-DESC;FMTTYPE=text/html:Held at Our Lady of the Prairie Retreat Center near Wheatland\, Iowa. On World Labyrinth Day we begin with an introduction to the labyrinth then walk the labyrinth after lunch (lunch included). Good for beginner or enthusiast and an opportunity to engage family/community and amplify collective energy.
LOCATION:Our Lady of the Prairie Retreat\, near Wheatland\, Iowa. Only 40 minutes from downtown Davenport yet far from the hectic pace of life\, The Prairie offers people of all faiths an environment of quiet beauty conducive to: personal prayer and reflection\, inner growth and nurturing the soul\, group team building\, creative thinking and decision making.
UID:e.2843.14290
SEQUENCE:3
DTSTAMP:20260422T145046Z
URL:https://member.quadcitieschamber.com/events/details/world-labyrinth-day-14290
END:VEVENT

END:VCALENDAR
