BEGIN:VCALENDAR
VERSION:2.0
PRODID:-//ChamberMaster//Event Calendar 2.0//EN
METHOD:PUBLISH
X-PUBLISHED-TTL:P3D
REFRESH-INTERVAL:P3D
CALSCALE:GREGORIAN
BEGIN:VEVENT
DTSTART:20171109T000000Z
DTEND:20171109T010000Z
X-MICROSOFT-CDO-ALLDAYEVENT:FALSE
SUMMARY:World War I Lecture Series
DESCRIPTION:World War I Lecture Series\n\nThe World War I Lecture Series is conducted by Jason Morin\, Army Sustainment Command Historian at the Rock Island Arsenal.\n\n\n\nNovember 8\, 2017     Mobilization and Training of the US Army \n\n6pm Davenport Public Library (Eastern Branch)\n\n \n\nJanuary 10\, 2018     RIA during WWI \n\n2pm Davenport Public Library (Eastern Branch)\n\n \n\nMarch 14\, 2018     Trench Warfare \n\n6pm Davenport Public Library (Eastern Branch)\n\n \n\nMay 9\, 2018         Gas Attacks \n\n2pm Davenport Public Library (Eastern Branch)\n\n \n\nJuly 11\, 2018         Battles of Cantigny/St Mihiel \n\n6pm Davenport Public Library (Eastern Branch)\n\n \n\nSeptember 12\, 2018     Battle of the Meuse-Argonne \n\n2pm Davenport Public Library (Eastern Branch)\n\n \n\nNovember 14\, 2018    Armistice\, the Russian Expedition\, and Occupation of Germany\n\n6pm Davenport Public Library (Eastern Branch)
X-ALT-DESC;FMTTYPE=text/html:World War I Lecture Series\n<div>\n<p>The World War I Lecture Series is conducted by Jason Morin\, Army Sustainment Command Historian at the Rock Island Arsenal.</p>\n\n<p><br />\nNovember 8\, 2017 &nbsp\;&nbsp\; &nbsp\;Mobilization and Training of the US Army&nbsp\;<br />\n6pm Davenport Public Library (Eastern Branch)</p>\n\n<p>&nbsp\;</p>\n\n<p>January 10\, 2018 &nbsp\;&nbsp\; &nbsp\;RIA during WWI&nbsp\;<br />\n2pm Davenport Public Library (Eastern Branch)<br />\n&nbsp\;</p>\n\n<p>March 14\, 2018 &nbsp\;&nbsp\; &nbsp\;Trench Warfare&nbsp\;<br />\n6pm Davenport Public Library (Eastern Branch)</p>\n\n<p>&nbsp\;</p>\n\n<p>May 9\, 2018 &nbsp\;&nbsp\; &nbsp\;&nbsp\;&nbsp\; &nbsp\;Gas Attacks&nbsp\;<br />\n2pm Davenport Public Library (Eastern Branch)<br />\n&nbsp\;</p>\n\n<p>July 11\, 2018 &nbsp\;&nbsp\; &nbsp\;&nbsp\;&nbsp\; &nbsp\;Battles of Cantigny/St Mihiel&nbsp\;<br />\n6pm Davenport Public Library (Eastern Branch)</p>\n\n<p>&nbsp\;</p>\n\n<p>September 12\, 2018 &nbsp\;&nbsp\; &nbsp\;Battle of the Meuse-Argonne&nbsp\;<br />\n2pm Davenport Public Library (Eastern Branch)<br />\n&nbsp\;</p>\n\n<p>November 14\, 2018&nbsp\;&nbsp\; &nbsp\;Armistice\, the Russian Expedition\, and Occupation of Germany<br />\n6pm Davenport Public Library (Eastern Branch)</p>\n</div>\n
LOCATION:The Library | Eastern 6000 Eastern Avenue Davenport\, IA 52807
UID:e.2843.8546
SEQUENCE:3
DTSTAMP:20260423T194849Z
URL:https://member.quadcitieschamber.com/events/details/world-war-i-lecture-series-11-08-2017-8546
END:VEVENT

END:VCALENDAR
