BEGIN:VCALENDAR
VERSION:2.0
PRODID:-//ChamberMaster//Event Calendar 2.0//EN
METHOD:PUBLISH
X-PUBLISHED-TTL:P3D
REFRESH-INTERVAL:P3D
CALSCALE:GREGORIAN
BEGIN:VEVENT
DTSTART:20130211T220000Z
DTEND:20130211T223000Z
X-MICROSOFT-CDO-ALLDAYEVENT:FALSE
SUMMARY:WQPT/WIU 30th Anniversary Ribbon Cutting
DESCRIPTION:Please help WQPT celebrate their 30th Anniversary with a ribbon cutting on Monday\, February 11\, 2013 at 4:00pm.  Located at Western Illinois University – Quad Cities Riverfront Campus at 3300 River Drive in Moline. They are the Quad Cities local TV station and were the last major metropolitan area to get public TV.For more information\, please visit www.wqpt.org
X-ALT-DESC;FMTTYPE=text/html:<P style="MARGIN: 0in 0in 0pt" class=MsoNormal><FONT face=Calibri>Please help WQPT celebrate their 30<SUP>th</SUP> Anniversary with a ribbon cutting on Monday\, February 11\, 2013 at 4:00pm.<SPAN style="mso-spacerun: yes">&nbsp\; </SPAN>Located at Western Illinois University – Quad Cities Riverfront Campus at 3300 River Drive in Moline.</FONT></P><P style="MARGIN: 0in 0in 0pt" class=MsoNormal><?xml:namespace prefix = o ns = "urn:schemas-microsoft-com:office:office" /><o:p><FONT face=Calibri>&nbsp\;</FONT></o:p></P><P style="MARGIN: 0in 0in 0pt" class=MsoNormal><FONT face=Calibri>They are the Quad Cities local TV station and were the last major metropolitan area to get public TV.</FONT></P><P style="MARGIN: 0in 0in 0pt" class=MsoNormal><FONT face=Calibri>For more information\, please visit </FONT><A href="http://www.wqpt.org"><FONT face="Times New Roman">www.wqpt.org</FONT></A></P><DIV>&nbsp\;</DIV>
LOCATION:Western Illinois University Quad Cities3300 River Drive Moline\, IL 61265
UID:e.2843.486
SEQUENCE:3
DTSTAMP:20260421T110300Z
URL:https://member.quadcitieschamber.com/events/details/wqpt-wiu-30th-anniversary-ribbon-cutting-02-11-2013-486
END:VEVENT

END:VCALENDAR
