BEGIN:VCALENDAR
VERSION:2.0
PRODID:-//ChamberMaster//Event Calendar 2.0//EN
METHOD:PUBLISH
X-PUBLISHED-TTL:P3D
REFRESH-INTERVAL:P3D
CALSCALE:GREGORIAN
BEGIN:VEVENT
DTSTART:20180603T180000Z
DTEND:20180603T190000Z
X-MICROSOFT-CDO-ALLDAYEVENT:FALSE
SUMMARY:WTF Dance Fitness at The Pub
DESCRIPTION:Who doesn't like to get a lil tipsy and lay it down on the dance floor with their best friends? ?????? Come check out Work The Floor\, a cardio fitness dance class on June 3rd at Pub 1848\, downtown Moline! Drink and dance while getting fit to unedited pop\, rap and hip hop music! $8 gets you a 45 minute class plus a drink ticket! Join us outside on the stage with drink in hand and stay afterward to drink and mingle! We'd love to meet you! Check in at 1pm\, dancing starts promptly at 1:15pm. Cash only. For more information about Work The Floor Fitness visit our website: www.workthefloorfitness.com
X-ALT-DESC;FMTTYPE=text/html:Who doesn&#39\;t like to get a lil tipsy and lay it down on the dance floor with their best friends? ?????? Come check out Work The Floor\, a cardio fitness dance class on June 3rd at Pub 1848\, downtown Moline! Drink and dance while getting fit to unedited pop\, rap and hip hop music! $8 gets you a 45 minute class plus a drink ticket! Join us outside on the stage with drink in hand and stay afterward to drink and mingle! We&#39\;d love to meet you! Check in at 1pm\, dancing starts promptly at 1:15pm. Cash only. For more information about Work The Floor Fitness visit our website: www.workthefloorfitness.com
LOCATION:Pub 1848 1601 River Drive #106 Moline\, IL 61265
UID:e.2843.13254
SEQUENCE:3
DTSTAMP:20260423T092422Z
URL:https://member.quadcitieschamber.com/events/details/wtf-dance-fitness-at-the-pub-13254
END:VEVENT

END:VCALENDAR
