BEGIN:VCALENDAR
VERSION:2.0
PRODID:-//ChamberMaster//Event Calendar 2.0//EN
METHOD:PUBLISH
X-PUBLISHED-TTL:P3D
REFRESH-INTERVAL:P3D
CALSCALE:GREGORIAN
BEGIN:VEVENT
DTSTART:20200115T233000Z
DTEND:20200116T020000Z
X-MICROSOFT-CDO-ALLDAYEVENT:FALSE
SUMMARY:YES SHE CAN Series 2020 Kick Off
DESCRIPTION:Join the YES SHE CAN SERIES on January 15th at 5:30 PM. Event will take place in the Baker Room at the Cambria Hotel in Bettendorf! Our special guest speaker\, Dave "The Shef" Sheffield\, will be speaking on success strategies such as: getting out of your own way when creating goals\, dreams and aspirations\, staying motivated when you really want to give up\, gaining clarity\, and how to live life in harmony so you can achieve what you want to achieve and be fulfilled. EVENT DETAILS: Doors open @530 pm There will be appetizers offered and a cash bar available! Program begins @ 600 pm This event is FREE to all YES SHE CAN Series members!!! We encourage everyone to attend - the cost for all non-YES SHE CAN Series members is ONLY $15.00.
X-ALT-DESC;FMTTYPE=text/html:Join the YES SHE CAN SERIES on January 15th at 5:30 PM. Event will take place in the Baker Room at the Cambria Hotel in Bettendorf! Our special guest speaker\, Dave &quot\;The Shef&quot\; Sheffield\, will be speaking on success strategies such as: getting out of your own way when creating goals\, dreams and aspirations\, staying motivated when you really want to give up\, gaining clarity\, and how to live life in harmony so you can achieve what you want to achieve and be fulfilled. EVENT DETAILS: Doors open @530 pm There will be appetizers offered and a cash bar available! Program begins @ 600 pm This event is FREE to all YES SHE CAN Series members!!! We encourage everyone to attend - the cost for all non-YES SHE CAN Series members is ONLY $15.00.
LOCATION:The Cambria Hotel Bettendorf The Baker Room
UID:e.2843.17464
SEQUENCE:3
DTSTAMP:20260422T015311Z
URL:https://member.quadcitieschamber.com/events/details/yes-she-can-series-2020-kick-off-17464
END:VEVENT

END:VCALENDAR
