BEGIN:VCALENDAR
VERSION:2.0
PRODID:-//ChamberMaster//Event Calendar 2.0//EN
METHOD:PUBLISH
X-PUBLISHED-TTL:P3D
REFRESH-INTERVAL:P3D
CALSCALE:GREGORIAN
BEGIN:VEVENT
DTSTART:20141024T223000Z
DTEND:20141025T003000Z
X-MICROSOFT-CDO-ALLDAYEVENT:FALSE
SUMMARY:Young Professional- New Members Welcome
DESCRIPTION:
X-ALT-DESC;FMTTYPE=text/html:<DIV style="FONT-FAMILY: Arial">&nbsp\;</DIV>
LOCATION:Bent River512 24th Street Rock Island\, IL 61201
UID:e.2843.888
SEQUENCE:3
DTSTAMP:20260422T174242Z
URL:https://member.quadcitieschamber.com/events/details/young-professional-new-members-welcome-10-24-2014-888
END:VEVENT

END:VCALENDAR
