BEGIN:VCALENDAR
VERSION:2.0
PRODID:-//ChamberMaster//Event Calendar 2.0//EN
METHOD:PUBLISH
X-PUBLISHED-TTL:P3D
REFRESH-INTERVAL:P3D
CALSCALE:GREGORIAN
BEGIN:VEVENT
DTSTART:20170502T000000Z
DTEND:20170502T013000Z
X-MICROSOFT-CDO-ALLDAYEVENT:FALSE
SUMMARY:Your Foothold in the Renaissance: Strategies for Lifelong Learning in Business
DESCRIPTION:If you're in business\, then lifelong learning isn't something special you have to take on\; it's simply the natural way to conduct your work. That's never more true than today\, when technology is changing so rapidly that the platforms of major enterprise\, like cloud computing and the internet of things\, simply didn't exist a few years ago. -- making this a moment of industrial renaissance. And yet the basic human ways of approaching problems never change. Keynote speaker Art Kleiner is Editor and Chief of Strategy and Business and PWC's global management magazine.
X-ALT-DESC;FMTTYPE=text/html:<span style="font-size:12px\;"><span style="font-family:arial\;">If you&#39\;re in business\, then lifelong learning isn&#39\;t something special you have to take on\; it&#39\;s simply the natural way to conduct your work. That&#39\;s never more true than today\, when technology is changing so rapidly that the platforms of major enterprise\, like cloud computing and the internet of things\, simply didn&#39\;t exist a few years ago. -- making this a moment of industrial renaissance. And yet the basic human ways of approaching problems never change. Keynote speaker&nbsp\;</span></span><span style="color: rgb(82\, 84\, 86)\; font-family: Arial\; font-size: 12px\;">Art Kleiner is&nbsp\;Editor and Chief of&nbsp\;</span><em style="margin: 0px\; padding: 0px\; border: 0px\; font-size: 12px\; font-family: Arial\; vertical-align: baseline\; color: rgb(82\, 84\, 86)\;">Strategy and Business and&nbsp\;</em><span style="color: rgb(82\, 84\, 86)\; font-family: Arial\; font-size: 12px\;">PWC&#39\;s global management magazine.</span>
LOCATION:St. Ambrose University Rogalski Center Ballroom 518 West Locust Street Davenport\, IA
UID:e.2843.5808
SEQUENCE:3
DTSTAMP:20260424T032223Z
URL:https://member.quadcitieschamber.com/events/details/your-foothold-in-the-renaissance-strategies-for-lifelong-learning-in-business-5808
END:VEVENT

END:VCALENDAR
