BEGIN:VCALENDAR
VERSION:2.0
PRODID:-//ChamberMaster//Event Calendar 2.0//EN
METHOD:PUBLISH
X-PUBLISHED-TTL:P3D
REFRESH-INTERVAL:P3D
CALSCALE:GREGORIAN
BEGIN:VEVENT
DTSTART:20130321T210000Z
DTEND:20130321T213000Z
X-MICROSOFT-CDO-ALLDAYEVENT:FALSE
SUMMARY:Yourtopia Yogurt Lounge Ribbon Cutting
DESCRIPTION:Please help welcome new member\, Yourtopia Yogurt Lounge\, with a ribbon cutting on Thursday\, March 21st at 4:00pm.  Located at 2571 53rd Avenue in Bettendorf – corner of 53rd and 18th. Yourtopia Yogurt Lounge provides a fun and relaxing environment for people of all ages to enjoy a cup of healthy yogurt\, tea and other desserts. For more information\, please visit www.yourtopiayogurt.com.
X-ALT-DESC;FMTTYPE=text/html:<P style="MARGIN: 0in 0in 0pt" class=MsoNormal><FONT face=Calibri>Please help welcome new member\, Yourtopia Yogurt Lounge\, with a ribbon cutting on Thursday\, March 21<SUP>st</SUP> at 4:00pm.<SPAN style="mso-spacerun: yes">&nbsp\; </SPAN>Located at 2571 53<SUP>rd</SUP> Avenue in Bettendorf – corner of 53<SUP>rd</SUP> and 18<SUP>th</SUP>.</FONT></P><P style="MARGIN: 0in 0in 0pt" class=MsoNormal><?xml:namespace prefix = o ns = "urn:schemas-microsoft-com:office:office" /><o:p><FONT face=Calibri>&nbsp\;</FONT></o:p></P><P style="MARGIN: 0in 0in 0pt" class=MsoNormal><FONT face=Calibri>Yourtopia Yogurt Lounge provides a fun and relaxing environment for people of all ages to enjoy a cup of healthy yogurt\, tea and other desserts.</FONT></P><P style="MARGIN: 0in 0in 0pt" class=MsoNormal><FONT face=Calibri></FONT>&nbsp\;</P><P style="MARGIN: 0in 0in 0pt" class=MsoNormal><FONT face=Calibri>For more information\, please visit </FONT><A href="http://www.yourtopiayogurt.com">www.yourtopiayogurt.com</A>.</P><DIV style="FONT-FAMILY: Arial">&nbsp\;</DIV>
LOCATION:Yourtopia Yogurt Lounge2571 53rd Avenue Bettendorf\, IA 52722
UID:e.2843.523
SEQUENCE:3
DTSTAMP:20260421T091520Z
URL:https://member.quadcitieschamber.com/events/details/yourtopia-yogurt-lounge-ribbon-cutting-03-21-2013-523
END:VEVENT

END:VCALENDAR
