BEGIN:VCALENDAR
VERSION:2.0
PRODID:-//ChamberMaster//Event Calendar 2.0//EN
METHOD:PUBLISH
X-PUBLISHED-TTL:P3D
REFRESH-INTERVAL:P3D
CALSCALE:GREGORIAN
BEGIN:VEVENT
DTSTART:20210221T010000Z
DTEND:20210221T040000Z
X-MICROSOFT-CDO-ALLDAYEVENT:FALSE
SUMMARY:YouthHope Virtua Trivia Night
DESCRIPTION:YouthHope Virtual Trivia Night! You will help bring youth HOPE! Help us meet the Modern Woodmen of America matching challenge! The cost is $15/per screen. All funds go to YouthHope. Register online at www.youthhopeqc.org For more information call 309-762-4577
X-ALT-DESC;FMTTYPE=text/html:YouthHope Virtual Trivia Night! You will help bring youth HOPE! Help us meet the Modern Woodmen of America matching challenge! The cost is $15/per screen. All funds go to YouthHope. Register online at www.youthhopeqc.org For more information call 309-762-4577
LOCATION:Virtual
UID:e.2843.18764
SEQUENCE:3
DTSTAMP:20260421T044858Z
URL:https://member.quadcitieschamber.com/events/details/youthhope-virtua-trivia-night-18764
END:VEVENT

END:VCALENDAR
