BEGIN:VCALENDAR
VERSION:2.0
PRODID:-//ChamberMaster//Event Calendar 2.0//EN
METHOD:PUBLISH
X-PUBLISHED-TTL:P3D
REFRESH-INTERVAL:P3D
CALSCALE:GREGORIAN
BEGIN:VEVENT
DTSTART:20090830T050000Z
DTEND:20090830T050000Z
X-MICROSOFT-CDO-ALLDAYEVENT:FALSE
SUMMARY:YP Cubs Trip
DESCRIPTION:YP Cubs Trip
X-ALT-DESC;FMTTYPE=text/html:YP Cubs Trip
LOCATION:
UID:e.2843.3694
SEQUENCE:3
DTSTAMP:20260424T014911Z
URL:https://member.quadcitieschamber.com/events/details/yp-cubs-trip-08-30-2009-3694
END:VEVENT

END:VCALENDAR
