BEGIN:VCALENDAR
VERSION:2.0
PRODID:-//ChamberMaster//Event Calendar 2.0//EN
METHOD:PUBLISH
X-PUBLISHED-TTL:P3D
REFRESH-INTERVAL:P3D
CALSCALE:GREGORIAN
BEGIN:VEVENT
DTSTART:20140312T050000Z
DTEND:20140312T050000Z
X-MICROSOFT-CDO-ALLDAYEVENT:FALSE
SUMMARY:YP Iowa Day at the Capitol
DESCRIPTION:YP Iowa Day at the Capitol
X-ALT-DESC;FMTTYPE=text/html:YP Iowa Day at the Capitol
LOCATION:
UID:e.2843.1988
SEQUENCE:3
DTSTAMP:20260422T061642Z
URL:https://member.quadcitieschamber.com/events/details/yp-iowa-day-at-the-capitol-03-12-2014-1988
END:VEVENT

END:VCALENDAR
