BEGIN:VCALENDAR
VERSION:2.0
PRODID:-//ChamberMaster//Event Calendar 2.0//EN
METHOD:PUBLISH
X-PUBLISHED-TTL:P3D
REFRESH-INTERVAL:P3D
CALSCALE:GREGORIAN
BEGIN:VEVENT
DTSTART:20171207T233000Z
DTEND:20171208T013000Z
X-MICROSOFT-CDO-ALLDAYEVENT:FALSE
SUMMARY:YP Network At Night (December 2017)
DESCRIPTION:Young Quad Citizens\, it's the time of year to get together for some holiday fun\, laughter\, good food and refreshments! The next Network at Night will feature hosted beer and wine from Lexus of Quad Cities\, delicious food from El Fogon and Happy Joes\, and entertainment by Prestige Productions! NEW this year\, get ready for a little friendly competition because our sponsors will be setting up this Holiday Party for a YP Game Night!\n\n\n\nJoin friends and other young professionals after work at Network @ Night in the Quad Cities. Typically on the first Thursday of each month\, this event rotates between area bars\, restaurants and special venues. After a long day at work\, Network @ Night gives young professionals the ability to socialize with friends\, meet new people\, make business and community contacts\, experience the Quad Cities night life\, and most importantly - to relax!\n\n \n\nApproximately 100 YPs attend this monthly event. FREE!\n\n \n\n*If you need any special requirements to attend this meeting please contact\n\nOlivia Bussert at obussert@quadcitieschamber.com*\n\n \n\n*If you work for a company that is a member of the Chamber\, you are automatically a member of YPQC and attend at YPQC member prices. If your company is not a member of the Chamber\, you can join YPQC separately for $50/year. Contact Greg Aguilar at gaguilar@quadcitieschamber.com or 563.823.2659.
X-ALT-DESC;FMTTYPE=text/html:<span style="font-size:16px\;"><span style="font-family:arial\;">Young Quad Citizens\, it&#39\;s the time of year to get together for some holiday fun\, laughter\, good food and refreshments! The next Network at Night will feature hosted beer and wine from Lexus of Quad Cities\, delicious food from El Fogon&nbsp\;and Happy Joes\, and entertainment by Prestige Productions! NEW this year\, get ready for a little friendly competition because our sponsors will be setting up this Holiday Party for a YP Game Night!</span></span><br />\n<br />\n<span style="font-family: arial\; font-size: 16px\; background-size: initial\; background-origin: initial\; background-clip: initial\;"><span style="color: black\;"><span style="background-size: initial\; background-origin: initial\; background-clip: initial\;">Join friends and other young&nbsp\;professionals after work at Network @ Night in the Quad Cities. Typically on the first Thursday of each month\, this event rotates between&nbsp\;area bars\, restaurants and special venues. After a long day at work\, Network @ Night gives young professionals the ability to socialize with friends\, meet new people\, make business and community contacts\, experience the Quad Cities night life\, and most importantly&nbsp\;- to relax!</span></span></span><br style="font-family: arial\; font-size: 16px\;" />\n<span style="font-family: arial\; font-size: 16px\;">&nbsp\;</span><br style="font-family: arial\; font-size: 16px\;" />\n<span style="font-family: arial\; font-size: 16px\; background-size: initial\; background-origin: initial\; background-clip: initial\;"><span style="color: black\;"><span new="" style="background-size: initial\; background-origin: initial\; background-clip: initial\;" times="">Approximately 100 YPs attend this monthly event. FREE!</span></span></span><br style="font-family: arial\; font-size: 16px\;" />\n<span style="font-family: arial\; font-size: 16px\;">&nbsp\;</span><br style="font-family: arial\; font-size: 16px\;" />\n<span style="font-family: arial\; font-size: 16px\; background-size: initial\; background-origin: initial\; background-clip: initial\;"><span style="color: black\;"><span new="" style="background-size: initial\; background-origin: initial\; background-clip: initial\;" times="">*If you need any special requirements to attend this meeting please contact<br />\nOlivia&nbsp\;Bussert&nbsp\;at&nbsp\;obussert@quadcitieschamber.com*</span></span></span><br style="font-family: arial\; font-size: 16px\;" />\n<span style="font-family: arial\; font-size: 16px\;">&nbsp\;</span><br style="font-family: arial\; font-size: 16px\;" />\n<span style="font-family: arial\; font-size: 16px\; background-size: initial\; background-origin: initial\; background-clip: initial\;"><span style="color: black\;"><span style="background-size: initial\; background-origin: initial\; background-clip: initial\;"><span style="color: rgb(20\, 24\, 35)\;">*If you work for a company that is a member of the Chamber\, you are automatically a member of&nbsp\;<span data-scayt-lang="en_US" data-scayt-word="YPQC" style="background-image: none\;">YPQC</span>&nbsp\;and attend at&nbsp\;<span data-scayt-lang="en_US" data-scayt-word="YPQC" style="background-image: none\;">YPQC</span>&nbsp\;member prices. If your company is not a member of the Chamber\, you can join&nbsp\;<span data-scayt-lang="en_US" data-scayt-word="YPQC" style="background-image: none\;">YPQC</span>&nbsp\;separately for $50/year. Contact Greg Aguilar at&nbsp\;<a href="mailto:gaguilar@quadcitieschamber.com"><span style="color: rgb(0\, 0\, 255)\;"><span data-scayt-lang="en_US" data-scayt-word="gaguilar" style="background-image: none\;">gaguilar</span>@quadcitieschamber.com</span></a>&nbsp\;or 563.823.2659.</span></span></span></span>
LOCATION:Lexus of the Quad Cities 101 W Kimberly RD Davenport\, IA 52806
UID:e.2843.1388
SEQUENCE:3
DTSTAMP:20260423T181157Z
URL:https://member.quadcitieschamber.com/events/details/yp-network-at-night-december-2017-1388
END:VEVENT

END:VCALENDAR
