BEGIN:VCALENDAR
VERSION:2.0
PRODID:-//ChamberMaster//Event Calendar 2.0//EN
METHOD:PUBLISH
X-PUBLISHED-TTL:P3D
REFRESH-INTERVAL:P3D
CALSCALE:GREGORIAN
BEGIN:VEVENT
DTSTART:20171005T223000Z
DTEND:20171006T003000Z
X-MICROSOFT-CDO-ALLDAYEVENT:FALSE
SUMMARY:YP Network @ Night - Annual Masquerade Party! (October 2017)
DESCRIPTION:YPQC's annual Masquerade Party is just around the corner. Get ready for a night of disguise with delicious food\, specials on 100 West's signature Manhattan drink\, and the company of 100 other young professionals. Bring your co-workers and friends for this fun FREE event!\n\n\n\nJoin friends and other young professionals after work at Network @ Night in the Quad Cities. Typically on the first Thursday of each month\, this event rotates between area bars\, restaurants and special venues. After a long day at work\, Network @ Night gives young professionals the ability to socialize with friends\, meet new people\, make business and community contacts\, experience the Quad Cities night life\, and most importantly - to relax!\n\n \n\nApproximately 100 YPs attend this monthly event. (FREE for Members) $10 for Non-Members.\n\n \n\n*If you need any special requirements to attend this meeting please contact\n\nOlivia Bussert at obussert@quadcitieschamber.com*\n\n \n\n*If you work for a company that is a member of the Chamber\, you are automatically a member of YPQC and attend at YPQC member prices. If your company is not a member of the Chamber\, you can join YPQC separately for $50/year. Contact Greg Aguilar at gaguilar@quadcitieschamber.com or 563.823.2659.
X-ALT-DESC;FMTTYPE=text/html:<div style="FONT-FAMILY: Arial">\n<p align="left"><span style="color: rgb(75\, 79\, 86)\; font-family: Helvetica\, Arial\, sans-serif\; font-size: 14px\;">YPQC&rsquo\;s annual Masquerade Party is just around the corner. Get ready for a night of disguise with delicious food\, specials on 100 West&rsquo\;s signature Manhattan drink\, and the company of 100 other young professionals. Bring your co-workers and friends for this fun FREE event!</span><br />\n<br />\n<span style="font-size:14px\;"><span style="font-family: arial\; background-size: initial\; background-origin: initial\; background-clip: initial\;"><span style="color: black\;"><span style="background-size: initial\; background-origin: initial\; background-clip: initial\;">Join friends and other young&nbsp\;professionals after work at Network @ Night in the Quad Cities. Typically on the first Thursday of each month\, this event rotates between&nbsp\;area bars\, restaurants and special venues. After a long day at work\, Network @ Night gives young professionals the ability to socialize with friends\, meet new people\, make business and community contacts\, experience the Quad Cities night life\, and most importantly&nbsp\;- to relax!</span></span></span><br style="font-family: arial\; font-size: 16px\;" />\n<span style="font-family: arial\;">&nbsp\;</span><br style="font-family: arial\; font-size: 16px\;" />\n<span style="font-family: arial\; background-size: initial\; background-origin: initial\; background-clip: initial\;"><span style="color: black\;"><span new="" style="background-size: initial\; background-origin: initial\; background-clip: initial\;" times="">Approximately 100 YPs attend this monthly event. (FREE for Members) $10 for Non-Members.</span></span></span><br style="font-family: arial\; font-size: 16px\;" />\n<span style="font-family: arial\;">&nbsp\;</span><br style="font-family: arial\; font-size: 16px\;" />\n<span style="font-family: arial\; background-size: initial\; background-origin: initial\; background-clip: initial\;"><span style="color: black\;"><span new="" style="background-size: initial\; background-origin: initial\; background-clip: initial\;" times="">*If you need any special requirements to attend this meeting please contact<br />\nOlivia&nbsp\;Bussert&nbsp\;at&nbsp\;obussert@quadcitieschamber.com*</span></span></span><br style="font-family: arial\; font-size: 16px\;" />\n<span style="font-family: arial\;">&nbsp\;</span><br style="font-family: arial\; font-size: 16px\;" />\n<span style="font-family: arial\; background-size: initial\; background-origin: initial\; background-clip: initial\;"><span style="color: black\;"><span style="background-size: initial\; background-origin: initial\; background-clip: initial\;"><span style="color: rgb(20\, 24\, 35)\;">*If you work for a company that is a member of the Chamber\, you are automatically a member of&nbsp\;<span data-scayt-lang="en_US" data-scayt-word="YPQC" style="background-image: none\;">YPQC</span>&nbsp\;and attend at&nbsp\;<span data-scayt-lang="en_US" data-scayt-word="YPQC" style="background-image: none\;">YPQC</span>&nbsp\;member prices. If your company is not a member of the Chamber\, you can join&nbsp\;<span data-scayt-lang="en_US" data-scayt-word="YPQC" style="background-image: none\;">YPQC</span>&nbsp\;separately for $50/year. Contact Greg Aguilar at&nbsp\;<a href="mailto:gaguilar@quadcitieschamber.com"><span style="color: rgb(0\, 0\, 255)\;"><span data-scayt-lang="en_US" data-scayt-word="gaguilar" style="background-image: none\;">gaguilar</span>@quadcitieschamber.com</span></a>&nbsp\;or 563.823.2659.</span></span></span></span></span></p>\n</div>\n
LOCATION:Best Western Plus Steeplegate Inn 100 W 76th St\, Davenport\, IA 52806
UID:e.2843.1386
SEQUENCE:3
DTSTAMP:20260423T210132Z
URL:https://member.quadcitieschamber.com/events/details/yp-network-night-annual-masquerade-party-october-2017-1386
END:VEVENT

END:VCALENDAR
