BEGIN:VCALENDAR
VERSION:2.0
PRODID:-//ChamberMaster//Event Calendar 2.0//EN
METHOD:PUBLISH
X-PUBLISHED-TTL:P3D
REFRESH-INTERVAL:P3D
CALSCALE:GREGORIAN
BEGIN:VEVENT
DTSTART:20171212T180000Z
DTEND:20171212T190000Z
X-MICROSOFT-CDO-ALLDAYEVENT:FALSE
SUMMARY:YP Network @ Noon - Comedy\, Food\, Fun and Prizes (December 2017)
DESCRIPTION:Kick off the holidays with a lunch full of laughs with Comedy Sportz. Join us for a baked potato bar followed by Whitey's Ice Cream. Also don't miss the huge prize drawings just in time for the gift giving season.\n\n\n\nDuring the lunch hour\, join YPQC to enhance your personal and professional development skills.  With a new speaker and topic each month\, you'll brush up on your skills each time while learning more about the local opportunities available to young professionals. Network\, grab a bite to eat\, and pick up some new insight at our monthly Network @ Noon\, typically held the second Tuesday of each month. Make sure to arrive early for check-in which will begin at 11:45 am.\n\n\n\n*If you need any special requirements to attend this meeting please contact Olivia Bussert at OBussert@quadcitieschamber.com*\n\n\n\n*If you work for a company that is a member of the Chamber\, you are automatically a member of YPQC and attend at YPQC member prices. If your company is not a member of the Chamber\, you can join YPQC separately for $50/year. Contact Greg Aguilar at gaguilar@quadcitieschamber.com or 563.823.2659.
X-ALT-DESC;FMTTYPE=text/html:<p class="MsoNormal" style="MARGIN: 0in 0in 0pt"><span style="font-size: 16px\; font-stretch: normal\; widows: 1\;"><span style="color: rgb(34\, 34\, 34)\;"><span mso-ascii-font-family:="" mso-bidi-font-family:="" mso-hansi-font-family:="" new="" times=""><span style="color: black\;"><span style="background-image: initial\; background-position: initial\; background-size: initial\; background-repeat: initial\; background-attachment: initial\; background-origin: initial\; background-clip: initial\;"><span style="font-family: arial\;">Kick off the holidays with a lunch full of laughs with Comedy Sportz. Join us for a baked potato bar followed by Whitey&#39\;s Ice Cream.&nbsp\;Also don&#39\;t miss the huge prize drawings just in time for the gift giving season.<br />\n<br />\nDuring the lunch hour\, join&nbsp\;<span data-scayt-lang="en_US" data-scayt-word="YPQC" style="background-image: url(&quot\;&quot\;)\;">YPQC</span>&nbsp\;to enhance your personal and professional development skills.&nbsp\; With a new speaker and topic each month\, you&#39\;ll brush up on your skills each time while learning more about the</span>&nbsp\;local opportunities available to young professionals. Network\, grab a bite to eat\, and pick up some new insight at our monthly Network @ Noon\, typically held the second Tuesday of each month.&nbsp\;Make sure to arrive early for check-in which will begin at 11:45 am.</span></span></span></span></span><br style="font-size: 16px\;" />\n<br style="font-size: 16px\;" />\n<span mso-ascii-font-family:="" mso-ascii-theme-font:="" mso-hansi-font-family:="" mso-hansi-theme-font:="" new="" style="font-size: 16px\; background-image: initial\; background-position: initial\; background-size: initial\; background-repeat: initial\; background-attachment: initial\; background-origin: initial\; background-clip: initial\;" times=""><span style="color: black\;">*If you need any special requirements to attend this meeting please contact Olivia&nbsp\;Bussert&nbsp\;at&nbsp\;OBussert@quadcitieschamber.com*</span></span><br style="font-size: 16px\;" />\n<br style="font-size: 16px\;" />\n<span mso-ascii-font-family:="" mso-ascii-theme-font:="" mso-hansi-font-family:="" mso-hansi-theme-font:="" new="" style="font-size: 16px\; background-image: initial\; background-position: initial\; background-size: initial\; background-repeat: initial\; background-attachment: initial\; background-origin: initial\; background-clip: initial\;" times=""><span style="color: black\;"><span style="background-image: initial\; background-position: initial\; background-size: initial\; background-repeat: initial\; background-attachment: initial\; background-origin: initial\; background-clip: initial\;"><span style="color: rgb(20\, 24\, 35)\;">*If you work for a company that is a member of the Chamber\, you are automatically a member of&nbsp\;<span data-scayt-lang="en_US" data-scayt-word="YPQC" style="background-image: url(&quot\;&quot\;)\;">YPQC</span>&nbsp\;and attend at&nbsp\;<span data-scayt-lang="en_US" data-scayt-word="YPQC" style="background-image: url(&quot\;&quot\;)\;">YPQC</span>&nbsp\;member prices. If your company is not a member of the Chamber\, you can join&nbsp\;<span data-scayt-lang="en_US" data-scayt-word="YPQC" style="background-image: url(&quot\;&quot\;)\;">YPQC</span>&nbsp\;separately for $50/year. Contact Greg Aguilar at&nbsp\;<a href="mailto:gaguilar@quadcitieschamber.com"><span style="color: rgb(0\, 0\, 255)\;"><span data-scayt-lang="en_US" data-scayt-word="gaguilar" style="background-image: url(&quot\;&quot\;)\;">gaguilar</span>@quadcitieschamber.com</span></a>&nbsp\;or 563.823.2659.</span></span></span></span></p>\n
LOCATION:The Establishment Theater 220 19th St Rock Island\, IL
UID:e.2843.1405
SEQUENCE:3
DTSTAMP:20260423T195240Z
URL:https://member.quadcitieschamber.com/events/details/yp-network-noon-comedy-food-fun-and-prizes-december-2017-1405
END:VEVENT

END:VCALENDAR
