BEGIN:VCALENDAR
VERSION:2.0
PRODID:-//ChamberMaster//Event Calendar 2.0//EN
METHOD:PUBLISH
X-PUBLISHED-TTL:P3D
REFRESH-INTERVAL:P3D
CALSCALE:GREGORIAN
BEGIN:VEVENT
DTSTART:20090507T050000Z
DTEND:20090507T050000Z
X-MICROSOFT-CDO-ALLDAYEVENT:FALSE
SUMMARY:YP @ Night
DESCRIPTION:YP @ Night
X-ALT-DESC;FMTTYPE=text/html:YP @ Night
LOCATION:
UID:e.2843.3702
SEQUENCE:3
DTSTAMP:20260424T090229Z
URL:https://member.quadcitieschamber.com/events/details/yp-night-05-07-2009-3702
END:VEVENT

END:VCALENDAR
