BEGIN:VCALENDAR
VERSION:2.0
PRODID:-//ChamberMaster//Event Calendar 2.0//EN
METHOD:PUBLISH
X-PUBLISHED-TTL:P3D
REFRESH-INTERVAL:P3D
CALSCALE:GREGORIAN
BEGIN:VEVENT
DTSTART:20090512T050000Z
DTEND:20090512T050000Z
X-MICROSOFT-CDO-ALLDAYEVENT:FALSE
SUMMARY:YP @ Noon
DESCRIPTION:YP @ Noon
X-ALT-DESC;FMTTYPE=text/html:YP @ Noon
LOCATION:
UID:e.2843.3710
SEQUENCE:3
DTSTAMP:20260424T090352Z
URL:https://member.quadcitieschamber.com/events/details/yp-noon-05-12-2009-3710
END:VEVENT

END:VCALENDAR
