BEGIN:VCALENDAR
VERSION:2.0
PRODID:-//ChamberMaster//Event Calendar 2.0//EN
METHOD:PUBLISH
X-PUBLISHED-TTL:P3D
REFRESH-INTERVAL:P3D
CALSCALE:GREGORIAN
BEGIN:VEVENT
DTSTART:20090811T050000Z
DTEND:20090811T050000Z
X-MICROSOFT-CDO-ALLDAYEVENT:FALSE
SUMMARY:YP @ Noon- Augustana College
DESCRIPTION:YP @ Noon- Augustana College
X-ALT-DESC;FMTTYPE=text/html:YP @ Noon- Augustana College
LOCATION:
UID:e.2843.3754
SEQUENCE:3
DTSTAMP:20260424T060645Z
URL:https://member.quadcitieschamber.com/events/details/yp-noon-augustana-college-08-11-2009-3754
END:VEVENT

END:VCALENDAR
