BEGIN:VCALENDAR
VERSION:2.0
PRODID:-//ChamberMaster//Event Calendar 2.0//EN
METHOD:PUBLISH
X-PUBLISHED-TTL:P3D
REFRESH-INTERVAL:P3D
CALSCALE:GREGORIAN
BEGIN:VEVENT
DTSTART:20110412T180000Z
DTEND:20110413T000000Z
X-MICROSOFT-CDO-ALLDAYEVENT:FALSE
SUMMARY:YP Symposium and Awards 2011
DESCRIPTION:Be Vocal. Be Energetic. Be Bold. Be Professional. Be There!Come tour Downtown Davenport during The Network’s inaugural professional development seminar and hear from nationally recognized speakers.Keynote Speaker: Rebecca Ryan\, Next Generation Consulting·         Becky Esker: Combating the Four Common Time Wasters·         Molly Foley: Managing Up\, Managing Down: Working With Different Generations·          Gale Mote: Things They Never Told You about Teams That You Need to Know!·          Rebecca Ryan: Get a Life! How to Renegotiate Your Work\, So You Can Have a Life·          Debra Salz: Initiative Starts with I·          Dave “The Shef” Sheffield: Blabvertising\, The Art of Word-of-Mouth Advertising Agenda1:oo-5:15pm: Symposium5:15-6:00pm: Cocktails6:00-7:00pm: YP Awards Immediately following the Symposium\, The Network will be recognizing the leaders in our community businesses and organizations going above and beyond to promote a YP culture in the Quad Cities. Please help us recognize these individuals at the inaugural  YP Awardsceremony held in conjunction with The Network’s Young Leaders Symposium.The Young Professional of the Year will be announced along with Best Place to Work for YPs and many more!All Network members\, Chamber members and guests are welcome. Cost·         The Network’s Symposium Early-Bird Special\, $50\; non-members\, $60·         The Network’s Symposium\, $60\; non-members\, $70·         YP Awards\, $25\; non-members\, $30Symposium registration includes YP Awards ceremony! This event is sponsored by:·          Symposium Sponsor: University of Iowa MBA for Professionals and Managers- Quad Cities·          Symposium Session Sponsors: DHCU Community Credit Union\, Northwestern Mutual Financial Network\, Mississippi Valley Regional Blood Center·          Symposium Supporting Sponsors: Ascentra Credit Union\, dphilms Imaging Services·          YP Awards Presenting Sponsor: Lujacks Lexus·         Location Sponsors: Figge Art Museum\, Big Brothers Big Sisters\, Modern Woodmen Park\, Davenport Public Library\, New Ventures Center\, River Music Experience\, Hotel Blackhawk\, Rhythm City Casino·          Parking Sponsor: Rhythm City Casino·          Design Sponsor: Mandle Design·          Video Sponsor: dphilms Imaging Services Refunds and cancellations will not be accepted for this event.
X-ALT-DESC;FMTTYPE=text/html:<P class=MsoNormal style="MARGIN: 0in 0in 10pt"><FONT face=Calibri size=4>Be Vocal. Be Energetic. Be Bold. Be Professional. Be There!</FONT></P><P class=MsoNormal style="MARGIN: 0in 0in 10pt"><FONT face=Calibri size=4>Come tour Downtown Davenport during The Network’s inaugural professional development seminar and hear from nationally recognized speakers.</FONT></P><P class=MsoNormal style="MARGIN: 0in 0in 10pt"><FONT face=Calibri size=4>Keynote Speaker: Rebecca Ryan\, Next Generation Consulting</FONT></P><P class=MsoListParagraphCxSpFirst style="MARGIN: 0in 0in 0pt 0.5in\; TEXT-INDENT: -0.25in\; mso-list: l1 level1 lfo1"><FONT size=4><SPAN style="FONT-FAMILY: Symbol\; mso-fareast-font-family: Symbol\; mso-bidi-font-family: Symbol"><SPAN style="mso-list: Ignore">·<SPAN style="FONT: 7pt 'Times New Roman'">&nbsp\;&nbsp\;&nbsp\;&nbsp\;&nbsp\;&nbsp\;&nbsp\;&nbsp\; </SPAN></SPAN></SPAN><FONT face=Calibri>Becky Esker: Combating the Four Common Time Wasters</FONT></FONT></P><P class=MsoListParagraphCxSpFirst style="MARGIN: 0in 0in 0pt 0.5in\; TEXT-INDENT: -0.25in\; mso-list: l1 level1 lfo1"><FONT size=4><SPAN style="FONT-FAMILY: Symbol\; mso-fareast-font-family: Symbol\; mso-bidi-font-family: Symbol"><SPAN style="mso-list: Ignore">·<SPAN style="FONT: 7pt 'Times New Roman'">&nbsp\;&nbsp\;&nbsp\;&nbsp\;&nbsp\;&nbsp\;&nbsp\;&nbsp\; </SPAN></SPAN></SPAN><FONT face=Calibri>Molly Foley: Managing Up\, Managing Down: Working With Different Generations</FONT></FONT></P><P class=MsoListParagraphCxSpMiddle style="MARGIN: 0in 0in 0pt 0.5in\; TEXT-INDENT: -0.25in\; mso-list: l1 level1 lfo1"><FONT size=4><SPAN style="FONT-FAMILY: Symbol\; mso-fareast-font-family: Symbol\; mso-bidi-font-family: Symbol"><SPAN style="mso-list: Ignore">·<SPAN style="FONT: 7pt 'Times New Roman'">&nbsp\;&nbsp\;&nbsp\;&nbsp\;&nbsp\;&nbsp\;&nbsp\;&nbsp\; </SPAN></SPAN></SPAN><FONT face=Calibri><SPAN style="mso-spacerun: yes">&nbsp\;</SPAN>Gale Mote: Things They Never Told You about Teams That You Need to Know!</FONT></FONT></P><P class=MsoListParagraphCxSpMiddle style="MARGIN: 0in 0in 0pt 0.5in\; TEXT-INDENT: -0.25in\; mso-list: l1 level1 lfo1"><FONT size=4><SPAN style="FONT-FAMILY: Symbol\; mso-fareast-font-family: Symbol\; mso-bidi-font-family: Symbol"><SPAN style="mso-list: Ignore">·<SPAN style="FONT: 7pt 'Times New Roman'">&nbsp\;&nbsp\;&nbsp\;&nbsp\;&nbsp\;&nbsp\;&nbsp\;&nbsp\; </SPAN></SPAN></SPAN><FONT face=Calibri><SPAN style="mso-spacerun: yes">&nbsp\;</SPAN>Rebecca Ryan: Get a Life! How to Renegotiate Your Work\, So You Can Have a Life</FONT></FONT></P><P class=MsoListParagraphCxSpMiddle style="MARGIN: 0in 0in 0pt 0.5in\; TEXT-INDENT: -0.25in\; mso-list: l1 level1 lfo1"><FONT size=4><SPAN style="FONT-FAMILY: Symbol\; mso-fareast-font-family: Symbol\; mso-bidi-font-family: Symbol"><SPAN style="mso-list: Ignore">·<SPAN style="FONT: 7pt 'Times New Roman'">&nbsp\;&nbsp\;&nbsp\;&nbsp\;&nbsp\;&nbsp\;&nbsp\;&nbsp\; </SPAN></SPAN></SPAN><FONT face=Calibri><SPAN style="mso-spacerun: yes">&nbsp\;</SPAN>Debra Salz: Initiative Starts with I</FONT></FONT></P><P class=MsoListParagraphCxSpLast style="MARGIN: 0in 0in 10pt 0.5in\; TEXT-INDENT: -0.25in\; mso-list: l1 level1 lfo1"><FONT size=4><SPAN style="FONT-FAMILY: Symbol\; mso-fareast-font-family: Symbol\; mso-bidi-font-family: Symbol"><SPAN style="mso-list: Ignore">·<SPAN style="FONT: 7pt 'Times New Roman'">&nbsp\;&nbsp\;&nbsp\;&nbsp\;&nbsp\;&nbsp\;&nbsp\;&nbsp\; </SPAN></SPAN></SPAN><FONT face=Calibri><SPAN style="mso-spacerun: yes">&nbsp\;</SPAN>Dave “The Shef” Sheffield: Blabvertising\, The Art of Word-of-Mouth Advertising</FONT></FONT></P><P class=MsoNormal style="MARGIN: 0in 0in 10pt"><FONT face=Calibri><FONT size=4><SPAN style="mso-spacerun: yes">&nbsp\;</SPAN>Agenda</FONT></FONT></P><P class=MsoNormal style="MARGIN: 0in 0in 10pt"><FONT face=Calibri size=4>1:oo-5:15pm: Symposium</FONT></P><P class=MsoNormal style="MARGIN: 0in 0in 10pt"><FONT face=Calibri size=4>5:15-6:00pm: Cocktails</FONT></P><P class=MsoNormal style="MARGIN: 0in 0in 10pt"><FONT face=Calibri size=4>6:00-7:00pm: YP Awards</FONT></P><P class=MsoNormal style="MARGIN: 0in 0in 10pt"><?xml:namespace prefix = o ns = "urn:schemas-microsoft-com:office:office" /><o:p><FONT face=Calibri size=4>&nbsp\;</FONT></o:p></P><P class=MsoNormal style="MARGIN: 0in 0in 10pt"><FONT face=Calibri size=4>Immediately following the Symposium\, The Network will be recognizing the leaders in our community businesses and organizations going above and beyond to promote a YP culture in the Quad Cities. Please help us recognize these individuals at the inaugural <SPAN style="mso-spacerun: yes">&nbsp\;</SPAN>YP Awardsceremony held in conjunction with The Network’s Young Leaders Symposium.</FONT></P><P class=MsoNormal style="MARGIN: 0in 0in 10pt"><FONT face=Calibri size=4>The Young Professional of the Year will be announced along with Best Place to Work for YPs and many more!</FONT></P><P class=MsoNormal style="MARGIN: 0in 0in 10pt"><FONT face=Calibri size=4>All Network members\, Chamber members and guests are welcome.</FONT></P><P class=MsoNormal style="MARGIN: 0in 0in 10pt"><FONT face=Calibri><FONT size=4><SPAN style="mso-spacerun: yes">&nbsp\;</SPAN>Cost</FONT></FONT></P><P class=MsoListParagraphCxSpFirst style="MARGIN: 0in 0in 0pt 37.95pt\; TEXT-INDENT: -0.25in\; mso-list: l2 level1 lfo2\; mso-add-space: auto"><FONT size=4><SPAN style="FONT-FAMILY: Symbol\; mso-fareast-font-family: Symbol\; mso-bidi-font-family: Symbol"><SPAN style="mso-list: Ignore">·<SPAN style="FONT: 7pt 'Times New Roman'">&nbsp\;&nbsp\;&nbsp\;&nbsp\;&nbsp\;&nbsp\;&nbsp\;&nbsp\; </SPAN></SPAN></SPAN><FONT face=Calibri>The Network’s Symposium Early-Bird Special\, $50\; non-members\, $60</FONT></FONT></P><P class=MsoListParagraphCxSpMiddle style="MARGIN: 0in 0in 0pt 37.95pt\; TEXT-INDENT: -0.25in\; mso-list: l2 level1 lfo2\; mso-add-space: auto"><FONT size=4><SPAN style="FONT-FAMILY: Symbol\; mso-fareast-font-family: Symbol\; mso-bidi-font-family: Symbol"><SPAN style="mso-list: Ignore">·<SPAN style="FONT: 7pt 'Times New Roman'">&nbsp\;&nbsp\;&nbsp\;&nbsp\;&nbsp\;&nbsp\;&nbsp\;&nbsp\; </SPAN></SPAN></SPAN><FONT face=Calibri>The Network’s Symposium\, $60\; non-members\, $70</FONT></FONT></P><P class=MsoListParagraphCxSpLast style="MARGIN: 0in 0in 10pt 37.95pt\; TEXT-INDENT: -0.25in\; mso-list: l2 level1 lfo2\; mso-add-space: auto"><FONT size=4><SPAN style="FONT-FAMILY: Symbol\; mso-fareast-font-family: Symbol\; mso-bidi-font-family: Symbol"><SPAN style="mso-list: Ignore">·<SPAN style="FONT: 7pt 'Times New Roman'">&nbsp\;&nbsp\;&nbsp\;&nbsp\;&nbsp\;&nbsp\;&nbsp\;&nbsp\; </SPAN></SPAN></SPAN><FONT face=Calibri>YP Awards\, $25\; non-members\, $30</FONT></FONT></P><P class=MsoNormal style="MARGIN: 0in 0in 10pt"><FONT face=Calibri size=4>Symposium registration includes YP Awards ceremony!</FONT></P><P class=MsoNormal style="MARGIN: 0in 0in 10pt"><o:p><FONT face=Calibri size=4>&nbsp\;</FONT></o:p></P><P class=MsoNormal style="MARGIN: 0in 0in 10pt"><FONT face=Calibri size=4>This event is sponsored by:</FONT></P><P class=MsoListParagraphCxSpFirst style="MARGIN: 0in 0in 0pt 0.5in\; TEXT-INDENT: -0.25in\; mso-list: l0 level1 lfo3"><FONT size=4><SPAN style="FONT-FAMILY: Symbol\; mso-fareast-font-family: Symbol\; mso-bidi-font-family: Symbol"><SPAN style="mso-list: Ignore">·<SPAN style="FONT: 7pt 'Times New Roman'">&nbsp\;&nbsp\;&nbsp\;&nbsp\;&nbsp\;&nbsp\;&nbsp\;&nbsp\; </SPAN></SPAN></SPAN><FONT face=Calibri><SPAN style="mso-spacerun: yes">&nbsp\;</SPAN>Symposium Sponsor: University of Iowa MBA for Professionals and Managers- Quad Cities</FONT></FONT></P><P class=MsoListParagraphCxSpMiddle style="MARGIN: 0in 0in 0pt 0.5in\; TEXT-INDENT: -0.25in\; mso-list: l0 level1 lfo3"><FONT size=4><SPAN style="FONT-FAMILY: Symbol\; mso-fareast-font-family: Symbol\; mso-bidi-font-family: Symbol"><SPAN style="mso-list: Ignore">·<SPAN style="FONT: 7pt 'Times New Roman'">&nbsp\;&nbsp\;&nbsp\;&nbsp\;&nbsp\;&nbsp\;&nbsp\;&nbsp\; </SPAN></SPAN></SPAN><FONT face=Calibri><SPAN style="mso-spacerun: yes">&nbsp\;</SPAN>Symposium Session Sponsors: DHCU Community Credit Union\, Northwestern Mutual Financial Network\, Mississippi Valley Regional Blood Center</FONT></FONT></P><P class=MsoListParagraphCxSpMiddle style="MARGIN: 0in 0in 0pt 0.5in\; TEXT-INDENT: -0.25in\; mso-list: l0 level1 lfo3"><FONT size=4><SPAN style="FONT-FAMILY: Symbol\; mso-fareast-font-family: Symbol\; mso-bidi-font-family: Symbol"><SPAN style="mso-list: Ignore">·<SPAN style="FONT: 7pt 'Times New Roman'">&nbsp\;&nbsp\;&nbsp\;&nbsp\;&nbsp\;&nbsp\;&nbsp\;&nbsp\; </SPAN></SPAN></SPAN><FONT face=Calibri><SPAN style="mso-spacerun: yes">&nbsp\;</SPAN>Symposium Supporting Sponsors: Ascentra Credit Union\, dphilms Imaging Services</FONT></FONT></P><P class=MsoListParagraphCxSpMiddle style="MARGIN: 0in 0in 0pt 0.5in\; TEXT-INDENT: -0.25in\; mso-list: l0 level1 lfo3"><FONT size=4><SPAN style="FONT-FAMILY: Symbol\; mso-fareast-font-family: Symbol\; mso-bidi-font-family: Symbol"><SPAN style="mso-list: Ignore">·<SPAN style="FONT: 7pt 'Times New Roman'">&nbsp\;&nbsp\;&nbsp\;&nbsp\;&nbsp\;&nbsp\;&nbsp\;&nbsp\; </SPAN></SPAN></SPAN><FONT face=Calibri><SPAN style="mso-spacerun: yes">&nbsp\;</SPAN>YP Awards Presenting Sponsor: Lujacks Lexus</FONT></FONT></P><P class=MsoListParagraphCxSpMiddle style="MARGIN: 0in 0in 0pt 0.5in\; TEXT-INDENT: -0.25in\; mso-list: l0 level1 lfo3"><FONT size=4><SPAN style="FONT-FAMILY: Symbol\; mso-fareast-font-family: Symbol\; mso-bidi-font-family: Symbol"><SPAN style="mso-list: Ignore">·<SPAN style="FONT: 7pt 'Times New Roman'">&nbsp\;&nbsp\;&nbsp\;&nbsp\;&nbsp\;&nbsp\;&nbsp\;&nbsp\; </SPAN></SPAN></SPAN><FONT face=Calibri>Location Sponsors: Figge Art Museum\, Big Brothers Big Sisters\, Modern Woodmen Park\, Davenport Public Library\, New Ventures Center\, River Music Experience\, Hotel Blackhawk\, Rhythm City Casino</FONT></FONT></P><P class=MsoListParagraphCxSpMiddle style="MARGIN: 0in 0in 0pt 0.5in\; TEXT-INDENT: -0.25in\; mso-list: l0 level1 lfo3"><FONT size=4><SPAN style="FONT-FAMILY: Symbol\; mso-fareast-font-family: Symbol\; mso-bidi-font-family: Symbol"><SPAN style="mso-list: Ignore">·<SPAN style="FONT: 7pt 'Times New Roman'">&nbsp\;&nbsp\;&nbsp\;&nbsp\;&nbsp\;&nbsp\;&nbsp\;&nbsp\; </SPAN></SPAN></SPAN><FONT face=Calibri><SPAN style="mso-spacerun: yes">&nbsp\;</SPAN>Parking Sponsor: Rhythm City Casino</FONT></FONT></P><P class=MsoListParagraphCxSpLast style="MARGIN: 0in 0in 10pt 0.5in\; TEXT-INDENT: -0.25in\; mso-list: l0 level1 lfo3"><FONT size=4><SPAN style="FONT-FAMILY: Symbol\; mso-fareast-font-family: Symbol\; mso-bidi-font-family: Symbol"><SPAN style="mso-list: Ignore">·<SPAN style="FONT: 7pt 'Times New Roman'">&nbsp\;&nbsp\;&nbsp\;&nbsp\;&nbsp\;&nbsp\;&nbsp\;&nbsp\; </SPAN></SPAN></SPAN><FONT face=Calibri><SPAN style="mso-spacerun: yes">&nbsp\;</SPAN>Design Sponsor: Mandle Design</FONT></FONT></P><P class=MsoListParagraphCxSpLast style="MARGIN: 0in 0in 10pt 0.5in\; TEXT-INDENT: -0.25in\; mso-list: l0 level1 lfo3"><FONT size=4><SPAN style="FONT-FAMILY: Symbol\; mso-fareast-font-family: Symbol\; mso-bidi-font-family: Symbol"><SPAN style="mso-list: Ignore">·<SPAN style="FONT: 7pt 'Times New Roman'">&nbsp\;&nbsp\;&nbsp\;&nbsp\;&nbsp\;&nbsp\;&nbsp\;&nbsp\;&nbsp\;</SPAN></SPAN></SPAN><FONT face=Calibri><SPAN style="mso-spacerun: yes">&nbsp\;</SPAN>Video Sponsor: dphilms Imaging Services</FONT></FONT></P><P class=MsoListParagraphCxSpLast style="MARGIN: 0in 0in 10pt 0.5in\; TEXT-INDENT: -0.25in\; mso-list: l0 level1 lfo3"><FONT face=Calibri size=4></FONT>&nbsp\;</P><P class=MsoListParagraphCxSpLast style="MARGIN: 0in 0in 10pt 0.5in\; TEXT-INDENT: -0.25in\; mso-list: l0 level1 lfo3"><FONT face=Calibri>Refunds and cancellations will not be accepted for this event.</FONT></P>
LOCATION:Figge Art Museum225 West Second Street Davenport\, IA 52801
UID:e.2843.124
SEQUENCE:3
DTSTAMP:20260423T005747Z
URL:https://member.quadcitieschamber.com/events/details/yp-symposium-and-awards-2011-04-12-2011-124
END:VEVENT

END:VCALENDAR
