BEGIN:VCALENDAR
VERSION:2.0
PRODID:-//ChamberMaster//Event Calendar 2.0//EN
METHOD:PUBLISH
X-PUBLISHED-TTL:P3D
REFRESH-INTERVAL:P3D
CALSCALE:GREGORIAN
BEGIN:VEVENT
DTSTART:20090813T050000Z
DTEND:20090813T050000Z
X-MICROSOFT-CDO-ALLDAYEVENT:FALSE
SUMMARY:YP @ Ya Maka My Weekend
DESCRIPTION:YP @ Ya Maka My Weekend
X-ALT-DESC;FMTTYPE=text/html:YP @ Ya Maka My Weekend
LOCATION:
UID:e.2843.3741
SEQUENCE:3
DTSTAMP:20260424T060523Z
URL:https://member.quadcitieschamber.com/events/details/yp-ya-maka-my-weekend-08-13-2009-3741
END:VEVENT

END:VCALENDAR
