BEGIN:VCALENDAR
VERSION:2.0
PRODID:-//ChamberMaster//Event Calendar 2.0//EN
METHOD:PUBLISH
X-PUBLISHED-TTL:P3D
REFRESH-INTERVAL:P3D
CALSCALE:GREGORIAN
BEGIN:VEVENT
DTSTART:20180315T223000Z
DTEND:20180316T003000Z
X-MICROSOFT-CDO-ALLDAYEVENT:FALSE
SUMMARY:YPQC a Night: Bent River Brewing Company
DESCRIPTION:Join friends and other young Quad Citizens after work for games\, food and fun at YP Net At Night in the Quad Cities. Typically on the third Thursday of every other month\, this event rotates between Iowa and Illinois area bars\, restaurants\, and special venues. After a long day at work\, YP Net At Night  gives young Quad Citizens the ability to socialize with friends\, meet new people\, make business and community contacts\, experience the Quad Cities nightlife\, and most importantly - to relax!\n\n\n\nApproximately 100 Young Professionals attend this free bi-monthly event. \n\n\n\n \n\n*If you need any special requirements to attend this meeting please contact\n\nGreg Aguilar at gaguilar@quadcitieschamber.com*\n\n \n\n*If you work for a company that is a member of the Chamber\, you are automatically a member of YPQC and attend at YPQC member prices. If your company is not a member of the Chamber\, you can join YPQC separately for $50/year. Contact Greg Aguilar at gaguilar@quadcitieschamber.com or 563.823.2659.
X-ALT-DESC;FMTTYPE=text/html:<span style="font-family: arial\; font-size: 16px\; background-size: initial\; background-origin: initial\; background-clip: initial\;"><span style="color: black\;"><span style="background-size: initial\; background-origin: initial\; background-clip: initial\;">Join friends and other young Quad Citizens&nbsp\;after work for games\, food and fun at YP Net At Night in the Quad Cities. Typically on the third Thursday of every other month\, this event rotates between Iowa and Illinois area bars\, restaurants\, and special venues. After a long day at work\,&nbsp\;</span></span></span><span style="font-family: arial\; font-size: 16px\;">YP Net At Night&nbsp\;</span><span style="font-family: arial\; font-size: 16px\; background-size: initial\; background-origin: initial\; background-clip: initial\;"><span style="color: black\;"><span style="background-size: initial\; background-origin: initial\; background-clip: initial\;">&nbsp\;gives young Quad Citizens the ability to socialize with friends\, meet new people\, make business and community contacts\, experience the Quad Cities nightlife\, and most importantly&nbsp\;- to relax!</span></span></span><br style="font-family: arial\; font-size: 16px\;" />\n<br style="font-family: arial\; font-size: 16px\;" />\n<span style="font-family: arial\; font-size: 16px\; background-size: initial\; background-origin: initial\; background-clip: initial\;"><span style="color: black\;"><span new="" style="background-size: initial\; background-origin: initial\; background-clip: initial\;" times="">Approximately 100 Young Professionals attend this free bi-monthly event.&nbsp\;</span></span></span><br style="font-family: arial\; font-size: 16px\;" />\n<br style="font-family: arial\; font-size: 16px\;" />\n<span style="font-family: arial\; font-size: 16px\;">&nbsp\;</span><br style="font-family: arial\; font-size: 16px\;" />\n<span style="font-family: arial\; font-size: 16px\; background-size: initial\; background-origin: initial\; background-clip: initial\;"><span style="color: black\;"><span new="" style="background-size: initial\; background-origin: initial\; background-clip: initial\;" times="">*If you need any special requirements to attend this meeting please contact<br />\nGreg Aguilar at gaguilar@quadcitieschamber.com*</span></span></span><br style="font-family: arial\; font-size: 16px\;" />\n<span style="font-family: arial\; font-size: 16px\;">&nbsp\;</span><br style="font-family: arial\; font-size: 16px\;" />\n<span style="font-family: arial\; font-size: 16px\; background-size: initial\; background-origin: initial\; background-clip: initial\;"><span style="color: black\;"><span style="background-size: initial\; background-origin: initial\; background-clip: initial\;"><span style="color: rgb(20\, 24\, 35)\;">*If you work for a company that is a member of the Chamber\, you are automatically a member of&nbsp\;<span data-scayt-lang="en_US" data-scayt-word="YPQC" style="background-image: none\;">YPQC</span>&nbsp\;and attend at&nbsp\;<span data-scayt-lang="en_US" data-scayt-word="YPQC" style="background-image: none\;">YPQC</span>&nbsp\;member prices. If your company is not a member of the Chamber\, you can join&nbsp\;<span data-scayt-lang="en_US" data-scayt-word="YPQC" style="background-image: none\;">YPQC</span>&nbsp\;separately for $50/year. Contact Greg Aguilar at&nbsp\;<a href="mailto:gaguilar@quadcitieschamber.com"><span style="color: rgb(0\, 0\, 255)\;"><span data-scayt-lang="en_US" data-scayt-word="gaguilar" style="background-image: none\;">gaguilar</span>@quadcitieschamber.com</span></a>&nbsp\;or 563.823.2659.</span></span></span></span>
LOCATION:Bent River Brewing Company 512 24th St\, Rock Island\, IL 61201
UID:e.2843.8666
SEQUENCE:3
DTSTAMP:20260423T154809Z
URL:https://member.quadcitieschamber.com/events/details/ypqc-a-night-bent-river-brewing-company-8666
END:VEVENT

END:VCALENDAR
