BEGIN:VCALENDAR
VERSION:2.0
PRODID:-//ChamberMaster//Event Calendar 2.0//EN
METHOD:PUBLISH
X-PUBLISHED-TTL:P3D
REFRESH-INTERVAL:P3D
CALSCALE:GREGORIAN
BEGIN:VEVENT
DTSTART:20190117T233000Z
DTEND:20190118T013000Z
X-MICROSOFT-CDO-ALLDAYEVENT:FALSE
SUMMARY:YPQC at Night: Analog Arcade Bar - Moline
DESCRIPTION:Join friends and other young Quad Citizens after work for food and fun at YPQC at Night in the Quad Cities. Typically on the third Thursday of every other month\, this event rotates between Iowa and Illinois area bars\, restaurants\, and special venues. After a long day at work\, YPQC at Night  gives young Quad Citizens the ability to socialize with friends\, meet new people\, make business and community contacts\, experience the Quad Cities nightlife\, and most importantly - to relax!\n\n \n\nApproximately 100 Young Professionals attend this free bi-monthly event. \n\n \n\n*If you need any special requirements to attend this meeting please contact\n\nMarcy Hyder at mhyder@quadcitieschamber.com
X-ALT-DESC;FMTTYPE=text/html:<span style="font-family: arial\; font-size: 16px\; background-size: initial\; background-origin: initial\; background-clip: initial\;"><span style="color: black\;"><span style="background-size: initial\; background-origin: initial\; background-clip: initial\;">Join friends and other young Quad Citizens&nbsp\;after work for food and fun at YPQC at Night in the Quad Cities. Typically on the third Thursday of every other month\, this event rotates between Iowa and Illinois area bars\, restaurants\, and special venues. After a long day at work\,&nbsp\;</span></span></span><span style="font-family: arial\; font-size: 16px\;">YPQC at Night&nbsp\;</span><span style="font-family: arial\; font-size: 16px\; background-size: initial\; background-origin: initial\; background-clip: initial\;"><span style="color: black\;"><span style="background-size: initial\; background-origin: initial\; background-clip: initial\;">&nbsp\;gives young Quad Citizens the ability to socialize with friends\, meet new people\, make business and community contacts\, experience the Quad Cities nightlife\, and most importantly&nbsp\;- to relax!</span></span></span><br style="font-family: arial\; font-size: 16px\;" />\n<span style="font-family: arial\; font-size: 16px\;">&nbsp\;</span><br style="font-family: arial\; font-size: 16px\;" />\n<span style="font-family: arial\; font-size: 16px\; background-size: initial\; background-origin: initial\; background-clip: initial\;"><span style="color: black\;"><span new="" style="background-size: initial\; background-origin: initial\; background-clip: initial\;" times="">Approximately 100 Young Professionals attend this free bi-monthly event.&nbsp\;</span></span></span><br style="font-family: arial\; font-size: 16px\;" />\n<span style="font-family: arial\; font-size: 16px\;">&nbsp\;</span><br style="font-family: arial\; font-size: 16px\;" />\n<span style="font-family: arial\; font-size: 16px\; background-size: initial\; background-origin: initial\; background-clip: initial\;"><span style="color: black\;"><span new="" style="background-size: initial\; background-origin: initial\; background-clip: initial\;" times="">*If you need any special requirements to attend this meeting please contact<br />\nMarcy Hyder at mhyder@quadcitieschamber.com</span></span></span>
LOCATION:Analog Arcade Bar 1405 5th Avenue Moline\, IL
UID:e.2843.13546
SEQUENCE:3
DTSTAMP:20260422T214635Z
URL:https://member.quadcitieschamber.com/events/details/ypqc-at-night-analog-arcade-bar-moline-13546
END:VEVENT

END:VCALENDAR
