BEGIN:VCALENDAR
VERSION:2.0
PRODID:-//ChamberMaster//Event Calendar 2.0//EN
METHOD:PUBLISH
X-PUBLISHED-TTL:P3D
REFRESH-INTERVAL:P3D
CALSCALE:GREGORIAN
BEGIN:VEVENT
DTSTART:20180920T223000Z
DTEND:20180921T003000Z
X-MICROSOFT-CDO-ALLDAYEVENT:FALSE
SUMMARY:YPQC at Night: Augustana College Anderson Club
DESCRIPTION:Augustana College's Ken Anderson Academic All-America Club is named after alum and former NFL quarterback with the Cincinnati Bengals\, Ken Anderson. With an elevated plaza connecting the club to Lindberg Stadium and a balcony overlooking the football field\, the Ken Anderson Club is the perfect location for an early fall mixer and tailgate. \n\n\n\nJoin friends and other young Quad Citizens after work for games\, food and fun at YP Net At Night in the Quad Cities. Typically on the third Thursday of every other month\, this event rotates between Iowa and Illinois area bars\, restaurants\, and special venues. After a long day at work\, YP Net At Night  gives young Quad Citizens the ability to socialize with friends\, meet new people\, make business and community contacts\, experience the Quad Cities nightlife\, and most importantly - to relax!\n\n\n\nApproximately 100 Young Professionals attend this free bi-monthly event. \n\n\n\n \n\n*If you need any special requirements to attend this meeting please contact\n\nMarcy Hyder at mhyder@quadcitieschamber.com*\n\n \n\n*If you work for a company that is a member of the Chamber\, you are automatically a member of YPQC and attend at YPQC member prices. If your company is not a member of the Chamber\, you can join YPQC separately for $50/year. Contact Alisha Espey at aespey@quadcitieschamber.com
X-ALT-DESC;FMTTYPE=text/html:<span style="font-family: arial\; font-size: 16px\; background-size: initial\; background-origin: initial\; background-clip: initial\;"><span style="color: black\;"><span style="background-size: initial\; background-origin: initial\; background-clip: initial\;">Augustana College's Ken Anderson Academic All-America Club is named after alum and former NFL quarterback with the Cincinnati Bengals\, Ken Anderson. With an elevated plaza connecting the club to Lindberg Stadium and a balcony overlooking the football field\, the Ken Anderson Club is the perfect location for an early fall mixer and tailgate.&nbsp\;</span></span></span><br>\n<br>\n<span style="font-family: arial\; font-size: 16px\; background-size: initial\; background-origin: initial\; background-clip: initial\;"><span style="color: black\;"><span style="background-size: initial\; background-origin: initial\; background-clip: initial\;">Join friends and other young Quad Citizens&nbsp\;after work for games\, food and fun at YP Net At Night in the Quad Cities. Typically on the third Thursday of every other month\, this event rotates between Iowa and Illinois area bars\, restaurants\, and special venues. After a long day at work\,&nbsp\;</span></span></span><span style="font-family: arial\; font-size: 16px\;">YP Net At Night&nbsp\;</span><span style="font-family: arial\; font-size: 16px\; background-size: initial\; background-origin: initial\; background-clip: initial\;"><span style="color: black\;"><span style="background-size: initial\; background-origin: initial\; background-clip: initial\;">&nbsp\;gives young Quad Citizens the ability to socialize with friends\, meet new people\, make business and community contacts\, experience the Quad Cities nightlife\, and most importantly&nbsp\;- to relax!</span></span></span><br style="font-family: arial\; font-size: 16px\;">\n<br style="font-family: arial\; font-size: 16px\;">\n<span style="font-family: arial\; font-size: 16px\; background-size: initial\; background-origin: initial\; background-clip: initial\;"><span style="color: black\;"><span new="" style="background-size: initial\; background-origin: initial\; background-clip: initial\;" times="">Approximately 100 Young Professionals attend this free bi-monthly event.&nbsp\;</span></span></span><br style="font-family: arial\; font-size: 16px\;">\n<br style="font-family: arial\; font-size: 16px\;">\n<span style="font-family: arial\; font-size: 16px\;">&nbsp\;</span><br style="font-family: arial\; font-size: 16px\;">\n<span style="font-family: arial\; font-size: 16px\; background-size: initial\; background-origin: initial\; background-clip: initial\;"><span style="color: black\;"><span new="" style="background-size: initial\; background-origin: initial\; background-clip: initial\;" times="">*If you need any special requirements to attend this meeting please contact<br>\nMarcy Hyder at mhyder@quadcitieschamber.com*</span></span></span><br style="font-family: arial\; font-size: 16px\;">\n<span style="font-family: arial\; font-size: 16px\;">&nbsp\;</span><br style="font-family: arial\; font-size: 16px\;">\n<span style="font-family: arial\; font-size: 16px\; background-size: initial\; background-origin: initial\; background-clip: initial\;"><span style="color: black\;"><span style="background-size: initial\; background-origin: initial\; background-clip: initial\;"><span style="color: rgb(20\, 24\, 35)\;">*If you work for a company that is a member of the Chamber\, you are automatically a member of&nbsp\;<span data-scayt-lang="en_US" data-scayt-word="YPQC" style="background-image: none\;">YPQC</span>&nbsp\;and attend at&nbsp\;<span data-scayt-lang="en_US" data-scayt-word="YPQC" style="background-image: none\;">YPQC</span>&nbsp\;member prices. If your company is not a member of the Chamber\, you can join&nbsp\;<span data-scayt-lang="en_US" data-scayt-word="YPQC" style="background-image: none\;">YPQC</span>&nbsp\;separately for $50/year. Contact Alisha Espey at aespey@quadcitieschamber.com</span></span></span></span>
LOCATION:Augustana College Ken Anderson Club 639 38th Street Rock Island\, IL 61201
UID:e.2843.8672
SEQUENCE:3
DTSTAMP:20260423T044209Z
URL:https://member.quadcitieschamber.com/events/details/ypqc-at-night-augustana-college-anderson-club-8672
END:VEVENT

END:VCALENDAR
