BEGIN:VCALENDAR
VERSION:2.0
PRODID:-//ChamberMaster//Event Calendar 2.0//EN
METHOD:PUBLISH
X-PUBLISHED-TTL:P3D
REFRESH-INTERVAL:P3D
CALSCALE:GREGORIAN
BEGIN:VEVENT
DTSTART:20180517T223000Z
DTEND:20180518T003000Z
X-MICROSOFT-CDO-ALLDAYEVENT:FALSE
SUMMARY:YPQC at Night: Crawford Brew Works
DESCRIPTION:We are anticipating a high volume of YP's in attendance. Parking at Crawford Brew Works may be limited. Please do not park in front of the Storage Units Gate or Card Reader. Also\, please do not park in any neighboring lots that are posted as "No Parking or Restricted"   Thank You\n\n\n\nCome to Network at Night and be one of the first Quad Citizens to step into Crawford Brew Works in Bettendorf\, Iowa! This highly anticipated project is slated to open in May\, with the official opening date is yet to be announced! We can't wait to throw a party in this 3\,500-square foot micro-brewery and taproom!\n\n\n\n*If you need any special requirements to attend this meeting please contact\n\nGreg Aguilar at gaguilar@quadcitieschamber.com*\n\n \n\n*If you work for a company that is a member of the Chamber\, you are automatically a member of YPQC and attend at YPQC member prices. If your company is not a member of the Chamber\, you can join YPQC separately for $50/year. Contact Greg Aguilar at gaguilar@quadcitieschamber.com or 563.823.2659.
X-ALT-DESC;FMTTYPE=text/html:<span style="color:#FF0000\;"><strong><span color:="" font-size:="" trebuchet=""><span style="font-family: arial\;"><span style="font-size: 16px\;"><span style="background: yellow\;">We are anticipating a high volume of YP&rsquo\;s in attendance. Parking at Crawford Brew Works may be limited. Please do not park in front of the Storage Units Gate or Card Reader. Also\, please do not park in any neighboring lots that are posted as &ldquo\;No Parking or Restricted&rdquo\; &ndash\; Thank You</span></span></span></span></strong></span><br />\n<br />\n<span style="font-size:16px\;"><span style="font-family:arial\;"><span style="color: rgb(85\, 85\, 85)\;">Come to Network at Night and be one of the first Quad Citizens to step into Crawford Brew Works in Bettendorf\, Iowa! This highly anticipated project is slated to open in May\, with the official opening date is yet to be announced! We can&#39\;t wait to throw a party in this&nbsp\;3\,500-square foot micro-brewery and taproom!</span><br />\n<br style="font-family: arial\; font-size: 16px\;" />\n<span style="background-size: initial\; background-origin: initial\; background-clip: initial\;"><span style="color: black\;"><span new="" style="background-size: initial\; background-origin: initial\; background-clip: initial\;" times="">*If you need any special requirements to attend this meeting please contact<br />\nGreg Aguilar at gaguilar@quadcitieschamber.com*</span></span></span><br style="font-family: arial\; font-size: 16px\;" />\n&nbsp\;<br style="font-family: arial\; font-size: 16px\;" />\n<span style="background-size: initial\; background-origin: initial\; background-clip: initial\;"><span style="color: black\;"><span style="background-size: initial\; background-origin: initial\; background-clip: initial\;"><span style="color: rgb(20\, 24\, 35)\;">*If you work for a company that is a member of the Chamber\, you are automatically a member of&nbsp\;<span data-scayt-lang="en_US" data-scayt-word="YPQC" style="background-image: none\;">YPQC</span>&nbsp\;and attend at&nbsp\;<span data-scayt-lang="en_US" data-scayt-word="YPQC" style="background-image: none\;">YPQC</span>&nbsp\;member prices. If your company is not a member of the Chamber\, you can join&nbsp\;<span data-scayt-lang="en_US" data-scayt-word="YPQC" style="background-image: none\;">YPQC</span>&nbsp\;separately for $50/year. Contact Greg Aguilar at&nbsp\;<a href="mailto:gaguilar@quadcitieschamber.com"><span style="color: rgb(0\, 0\, 255)\;"><span data-scayt-lang="en_US" data-scayt-word="gaguilar" style="background-image: none\;">gaguilar</span>@quadcitieschamber.com</span></a>&nbsp\;or 563.823.2659.</span></span></span></span></span></span>
LOCATION:Crawford Brew Works 3659 Devils Glen Road | Bettendorf\, IA
UID:e.2843.8668
SEQUENCE:3
DTSTAMP:20260423T104930Z
URL:https://member.quadcitieschamber.com/events/details/ypqc-at-night-crawford-brew-works-8668
END:VEVENT

END:VCALENDAR
