BEGIN:VCALENDAR
VERSION:2.0
PRODID:-//ChamberMaster//Event Calendar 2.0//EN
METHOD:PUBLISH
X-PUBLISHED-TTL:P3D
REFRESH-INTERVAL:P3D
CALSCALE:GREGORIAN
BEGIN:VEVENT
DTSTART:20190516T223000Z
DTEND:20190517T003000Z
X-MICROSOFT-CDO-ALLDAYEVENT:FALSE
SUMMARY:YPQC at Night: Crawford Brew Works - Bettendorf
DESCRIPTION:Crawford Brew Works\, Bettendorf\, offers Quad Citizens a casual drinking experience that's away from the hustle of downtown. Located just south of the intersection of Devils Glen Road and Tanglefoot Lane\, Crawford Brew Works is easily accessible from the Devil's Glen Sidepath\, which makes it perfect for bikes and brews. Crawford Brew Works partnership with Healthy Habits brings bicyclists a one of a kind brewery attached to one of the area's premiere bike shops.  You can come grab a beer\, get your bike tuned up? or do both!\n\n\n\nAbout YPQC at Night:\n\nJoin friends and other young Quad Citizens after work for eats\, drinks\, conversation and fun at YPQC at Night in the Quad Cities. This bi-monthly YP event rotates between hot spots throughout the region. After a long day at work\, YPQC at Night gives young Quad Citizens the ability to socialize with friends\, make new contacts\, and experience Quad Cities nightlife.\n\n \n\nApproximately 100 Young Professionals attend this free bi-monthly event. \n\n \n\n*If you need any special requirements to attend this meeting please contact\n\nMarcy Hyder at mhyder@quadcitieschamber.com
X-ALT-DESC;FMTTYPE=text/html:<span style="font-size:16px\;"><span style="font-family:arial\;"><span style="background:white\;"><span style="color:#273238\;">Crawford Brew Works\, Bettendorf\, offers Quad Citizens a casual drinking experience that&#39\;s away from the hustle of downtown. Located just south of the intersection of Devils Glen Road and Tanglefoot Lane\, Crawford Brew Works is easily accessible from the Devil&#39\;s Glen Sidepath\, which makes it perfect for bikes and brews. Crawford Brew Works partnership with Healthy Habits brings bicyclists a one of a kind brewery attached to one of the area&#39\;s premiere bike shops. &nbsp\;You can come grab a beer\, get your bike tuned up? or do both!</span></span></span></span><br />\n<br />\n<span style="font-size: 16px\;"><span style="font-family: arial\;"><span style="color: black\;">About YPQC at Night:</span><br />\n<span style="color: black\;">Join friends and other young Quad Citizens&nbsp\;after work for eats\, drinks\, conversation and fun at YPQC at Night in the Quad Cities. This bi-monthly YP event rotates between hot spots throughout the region. After a long day at work\,&nbsp\;</span><span style="background: white\;"><span style="color: rgb(51\, 51\, 51)\;">YPQC at Night&nbsp\;</span></span><span style="color: black\;">gives young Quad Citizens the ability to socialize with friends\, make new contacts\, and experience Quad Cities nightlife.</span><br />\n&nbsp\;<br />\n<span style="color: black\;">Approximately 100 Young Professionals attend this free bi-monthly event.&nbsp\;</span><br />\n&nbsp\;<br />\n<span style="color: black\;">*If you need any special requirements to attend this meeting please contact<br />\nMarcy Hyder at </span><a href="mailto:mhyder@quadcitieschamber.com">mhyder@quadcitieschamber.co</a>m</span></span>
LOCATION:Crawford Brew Works 3659 Devils Glen Road Bettendorf\, IA
UID:e.2843.13548
SEQUENCE:3
DTSTAMP:20260422T164159Z
URL:https://member.quadcitieschamber.com/events/details/ypqc-at-night-crawford-brew-works-bettendorf-13548
END:VEVENT

END:VCALENDAR
