BEGIN:VCALENDAR
VERSION:2.0
PRODID:-//ChamberMaster//Event Calendar 2.0//EN
METHOD:PUBLISH
X-PUBLISHED-TTL:P3D
REFRESH-INTERVAL:P3D
CALSCALE:GREGORIAN
BEGIN:VEVENT
DTSTART:20181129T233000Z
DTEND:20181130T013000Z
X-MICROSOFT-CDO-ALLDAYEVENT:FALSE
SUMMARY:YPQC at Night: Holiday Mix\, Mingle & Jingle!
DESCRIPTION:Sip. Savor. Socialize. The J Bar is your destination for work or play. Join friends and other young Quad Citizens after work for food and fun at YPQC At Night in the Quad Cities. After a long day at work\, YPQC At Night  gives young Quad Citizens the ability to socialize with friends\, meet new people\, make business and community contacts\, experience the Quad Cities nightlife\, and most importantly - to relax!\n\n \n\nApproximately 100 Young Professionals attend this free bi-monthly event. \n\n \n\n*If you need any special requirements to attend this meeting please contact\n\nMarcy Hyder at mhyder@quadcitieschamber.com\n\n \n\n*If you work for a company that is a member of the Chamber\, you are automatically a member of YPQC and attend at YPQC member prices. If your company is not a member of the Chamber\, you can join YPQC separately for $50/year. Contact Alisha Epsey at aepsey@quadcitieschamber.com.
X-ALT-DESC;FMTTYPE=text/html:<span style="font-family: Montserrat\, sans-serif\; font-size: 16px\; text-align: -webkit-center\; background-color: rgb(255\, 255\, 255)\;">Sip. Savor. Socialize. The J Bar is your destination for work or play.&nbsp\;</span><span style="font-family: arial\; font-size: 16px\; background-size: initial\; background-origin: initial\; background-clip: initial\;"><span style="color: black\;"><span style="background-size: initial\; background-origin: initial\; background-clip: initial\;">Join friends and other young Quad Citizens&nbsp\;after work for food and fun at YPQC At Night in the Quad Cities. After a long day at work\,&nbsp\;</span></span></span><span style="font-family: arial\; font-size: 16px\; background-color: rgb(255\, 255\, 255)\;">YPQC At Night&nbsp\;</span><span style="font-family: arial\; font-size: 16px\; background-size: initial\; background-origin: initial\; background-clip: initial\;"><span style="color: black\;"><span style="background-size: initial\; background-origin: initial\; background-clip: initial\;"> gives young Quad Citizens the ability to socialize with friends\, meet new people\, make business and community contacts\, experience the Quad Cities nightlife\, and most importantly&nbsp\;- to relax!</span></span></span><br style="font-family: arial\; font-size: 16px\;" />\n<span style="font-family: arial\; font-size: 16px\;">&nbsp\;</span><br style="font-family: arial\; font-size: 16px\;" />\n<span style="font-family: arial\; font-size: 16px\; background-size: initial\; background-origin: initial\; background-clip: initial\;"><span style="color: black\;"><span new="" style="background-size: initial\; background-origin: initial\; background-clip: initial\;" times="">Approximately 100 Young Professionals attend this free bi-monthly event.&nbsp\;</span></span></span><br style="font-family: arial\; font-size: 16px\;" />\n<span style="font-family: arial\; font-size: 16px\;">&nbsp\;</span><br style="font-family: arial\; font-size: 16px\;" />\n<span style="font-family: arial\; font-size: 16px\; background-size: initial\; background-origin: initial\; background-clip: initial\;"><span style="color: black\;"><span new="" style="background-size: initial\; background-origin: initial\; background-clip: initial\;" times="">*If you need any special requirements to attend this meeting please contact<br />\nMarcy Hyder at mhyder@quadcitieschamber.com</span></span></span><br style="font-family: arial\; font-size: 16px\;" />\n<span style="font-family: arial\; font-size: 16px\;">&nbsp\;</span><br style="font-family: arial\; font-size: 16px\;" />\n<span style="font-family: arial\; font-size: 16px\; background-size: initial\; background-origin: initial\; background-clip: initial\;"><span style="background-size: initial\; background-origin: initial\; background-clip: initial\;"><span style="color: rgb(20\, 24\, 35)\;">*If you work for a company that is a member of the Chamber\, you are automatically a member of&nbsp\;<span data-scayt-lang="en_US" data-scayt-word="YPQC" style="background-image: none\;">YPQC</span>&nbsp\;and attend at&nbsp\;<span data-scayt-lang="en_US" data-scayt-word="YPQC" style="background-image: none\;">YPQC</span>&nbsp\;member prices. If your company is not a member of the Chamber\, you can join&nbsp\;<span data-scayt-lang="en_US" data-scayt-word="YPQC" style="background-image: none\;">YPQC</span>&nbsp\;separately for $50/year. Contact Alisha Epsey at </span><font color="#0000ff">aepsey@quadcitieschamber.com.</font></span></span>
LOCATION:The J Bar 4215 Elmore Ave. Davenport\, IA 52807
UID:e.2843.8674
SEQUENCE:3
DTSTAMP:20260423T014347Z
URL:https://member.quadcitieschamber.com/events/details/ypqc-at-night-holiday-mix-mingle-jingle-8674
END:VEVENT

END:VCALENDAR
