BEGIN:VCALENDAR
VERSION:2.0
PRODID:-//ChamberMaster//Event Calendar 2.0//EN
METHOD:PUBLISH
X-PUBLISHED-TTL:P3D
REFRESH-INTERVAL:P3D
CALSCALE:GREGORIAN
BEGIN:VEVENT
DTSTART:20181016T163000Z
DTEND:20181016T180000Z
X-MICROSOFT-CDO-ALLDAYEVENT:FALSE
SUMMARY:YPQC At Noon: An Inside Look at Paradigm & E-Sports
DESCRIPTION:See what all of the buzz is about and experiment with virtual reality and eSports at a facility unlike any other in the world. With their state-of-the-art technology\, Paradigm is the first professional space that not only encourages community engagement through gaming competitions but also helps provide corporate training through virtual simulations.\n\n\n\nSteve Grubbs\, CEO & Founder of VictoryVR will talk about how the concept of Paradigm came to be and why he chose the Quad Cities as the place to bring his vision to life.\n\n\n\nIt's virtually impossible that you won't have fun. \n\n\n\n\n\n*If you need any special requirements to attend this meeting please contact Marcy Hyder mhyder@quadcitieschamber.com*\n\n\n\n*If you work for a company that is a member of the Chamber\, you are automatically a member of YPQC and attend at YPQC member prices. If your company is not a member of the Chamber\, you can join YPQC separately for $50/year. Contact Alisha Espey at aespey@quadcitieschamber.com.
X-ALT-DESC;FMTTYPE=text/html:<span style="font-size:16px\;"><span style="font-family:arial\;"><span style="color: rgb(29\, 33\, 41)\;">See what all of the buzz is about and experiment with virtual reality and eSports at a facility unlike any other in the world. With their state-of-the-art technology\, Paradigm is the first professional space that not only encourages community engagement through gaming competitions but also helps provide corporate training through virtual simulations.</span><br />\n<br />\nSteve Grubbs\, CEO &amp\; Founder of VictoryVR will talk about how the concept of Paradigm came to be and why he chose the Quad Cities as the place to bring his vision to life.<br />\n<br />\nIt&rsquo\;s virtually impossible that you won&rsquo\;t have fun.&nbsp\;</span></span><br />\n<br />\n<br />\n<span style="font-size:16px\;"><span style="font-family:arial\;"><span mso-ascii-font-family:="" mso-ascii-theme-font:="" mso-hansi-font-family:="" mso-hansi-theme-font:="" new="" style="background-image:initial\;background-position:initial\;background-size:initial\;background-repeat:initial\;background-attachment:initial\;background-origin:initial\;background-clip:initial\;" times="">*If you need any special requirements to attend this meeting please contact Marcy Hyder mhyder@quadcitieschamber.com*</span><br background-color:="" font-size:="" trebuchet="" />\n<br background-color:="" font-size:="" trebuchet="" />\n<span mso-ascii-font-family:="" mso-ascii-theme-font:="" mso-hansi-font-family:="" mso-hansi-theme-font:="" new="" style="background-image:initial\;background-position:initial\;background-size:initial\;background-repeat:initial\;background-attachment:initial\;background-origin:initial\;background-clip:initial\;" times=""><span style="background-image:initial\;background-position:initial\;background-size:initial\;background-repeat:initial\;background-attachment:initial\;background-origin:initial\;background-clip:initial\;">*If you work for a company that is a member of the Chamber\, you are automatically a member of&nbsp\;<span data-scayt-lang="en_US" data-scayt-word="YPQC" style="background-image:url(">YPQC</span>&nbsp\;and attend at&nbsp\;<span data-scayt-lang="en_US" data-scayt-word="YPQC" style="background-image:url(">YPQC</span>&nbsp\;member prices. If your company is not a member of the Chamber\, you can join&nbsp\;<span data-scayt-lang="en_US" data-scayt-word="YPQC" style="background-image:url(">YPQC</span>&nbsp\;separately for $50/year. Contact Alisha Espey at aespey@quadcitieschamber.com.</span></span></span></span><br />\n<br />\n&nbsp\;
LOCATION:Paradigm Davenport 320 E 2nd Street Davenport\, IA 52801
UID:e.2843.8872
SEQUENCE:3
DTSTAMP:20260423T043601Z
URL:https://member.quadcitieschamber.com/events/details/ypqc-at-noon-an-inside-look-at-paradigm-e-sports-8872
END:VEVENT

END:VCALENDAR
