BEGIN:VCALENDAR
VERSION:2.0
PRODID:-//ChamberMaster//Event Calendar 2.0//EN
METHOD:PUBLISH
X-PUBLISHED-TTL:P3D
REFRESH-INTERVAL:P3D
CALSCALE:GREGORIAN
BEGIN:VEVENT
DTSTART:20181211T173000Z
DTEND:20181211T190000Z
X-MICROSOFT-CDO-ALLDAYEVENT:FALSE
SUMMARY:YPQC At Noon: Comedy\, Food\, Fun\, and Prizes!
DESCRIPTION:Kick off the holidays with a lunch full of laughs with Comedy Sportz. Join us for an amazing lunch from Thunder Bay Grille. Plus\, prize drawings just in time for the gift giving season!\n\n\n\nDuring the lunch hour\, join YPQC to enhance your personal and professional development skills.  With a new speaker and topic each month\, you'll brush up on your skills each time while learning more about the local opportunities available to young professionals. Network\, grab a bite to eat\, and pick up some new insight at our monthly YPQC at Noon\, typically held the second Tuesday of each month. Make sure to arrive early for check-in which will begin at 11:30 am.\n\n\n\n*If you need any special requirements to attend this meeting please contact Marcy Hyder at mhyder@quadcitieschamber.com*\n\n\n\n*If you work for a company that is a member of the Chamber\, you are automatically a member of YPQC and attend at YPQC member prices.  If you have questions regarding the status of your membership\, please contact Alisha Espey at aespey@quadcitieschamber.com.
X-ALT-DESC;FMTTYPE=text/html:<span style="font-size: 16px\; font-stretch: normal\; widows: 1\;"><span style="color: rgb(34\, 34\, 34)\;"><span mso-ascii-font-family:="" mso-bidi-font-family:="" mso-hansi-font-family:="" new="" times=""><span style="color: black\;"><span style="background-image: initial\; background-position: initial\; background-size: initial\; background-repeat: initial\; background-attachment: initial\; background-origin: initial\; background-clip: initial\;"><span style="font-family: arial\;">Kick off the holidays with a lunch full of laughs with Comedy Sportz. Join us for an amazing lunch from Thunder Bay Grille. Plus\, prize drawings just in time for the gift giving season!<br />\n<br />\nDuring the lunch hour\, join&nbsp\;<span data-scayt-lang="en_US" data-scayt-word="YPQC" style="background-image: url(">YPQC</span>&nbsp\;to enhance your personal and professional development skills.&nbsp\; With a new speaker and topic each month\, you&#39\;ll brush up on your skills each time while learning more about the</span>&nbsp\;local opportunities available to young professionals. Network\, grab a bite to eat\, and pick up some new insight at our monthly YPQC at Noon\, typically held the second Tuesday of each month.&nbsp\;Make sure to arrive early for check-in which will begin at 11:30 am.</span></span></span></span></span><br style="font-size: 16px\;" />\n<br />\n<span style="font-size:16px\;"><span style="font-family:arial\;"><span mso-ascii-font-family:="" mso-ascii-theme-font:="" mso-hansi-font-family:="" mso-hansi-theme-font:="" new="" style="background-image:initial\;background-position:initial\;background-size:initial\;background-repeat:initial\;background-attachment:initial\;background-origin:initial\;background-clip:initial\;" times="">*If you need any special requirements to attend this meeting please contact Marcy Hyder at mhyder@quadcitieschamber.com*</span><br background-color:="" font-size:="" trebuchet="" />\n<br background-color:="" font-size:="" trebuchet="" />\n<span mso-ascii-font-family:="" mso-ascii-theme-font:="" mso-hansi-font-family:="" mso-hansi-theme-font:="" new="" style="background-image:initial\;background-position:initial\;background-size:initial\;background-repeat:initial\;background-attachment:initial\;background-origin:initial\;background-clip:initial\;" times=""><span style="background-image:initial\;background-position:initial\;background-size:initial\;background-repeat:initial\;background-attachment:initial\;background-origin:initial\;background-clip:initial\;">*</span></span></span></span><span style="font-size:14px\;"><span style="border:none windowtext 1.0pt\;padding:0in\;background:white\;"><span style="color:#141823\;"><span style="font-family:arial\,sans-serif\;">If you work for a company that is a member of the Chamber\, you are automatically a member of&nbsp\;YPQC&nbsp\;and attend at&nbsp\;YPQC&nbsp\;member prices. &nbsp\;If you have questions regarding the status of your membership\, please</span></span></span><span style="border:none windowtext 1.0pt\;padding:0in\;background:white\;"><span style="color:#1F497D\;"><span style="font-family:arial\,sans-serif\;"> c</span></span></span><span style="border:none windowtext 1.0pt\;padding:0in\;background:white\;"><span style="color:#141823\;"><span style="font-family:arial\,sans-serif\;">ontact Alisha Espey at&nbsp\;</span></span></span><a href="mailto:aespey@quadcitieschamber.com"><span style="background:white\;"><span style="font-family:arial\,sans-serif\;">aespey@quadcitieschamber.com</span></span></a><span style="background:white\;"><span style="color:blue\;"><span style="font-family:arial\,sans-serif\;">.</span></span></span></span><br />\n&nbsp\;<br />\n<br />\n<br />\n&nbsp\;
LOCATION:The Establishment 220 19th St\, Rock Island\, IL 61201
UID:e.2843.8873
SEQUENCE:3
DTSTAMP:20260422T234315Z
URL:https://member.quadcitieschamber.com/events/details/ypqc-at-noon-comedy-food-fun-and-prizes-8873
END:VEVENT

END:VCALENDAR
