BEGIN:VCALENDAR
VERSION:2.0
PRODID:-//ChamberMaster//Event Calendar 2.0//EN
METHOD:PUBLISH
X-PUBLISHED-TTL:P3D
REFRESH-INTERVAL:P3D
CALSCALE:GREGORIAN
BEGIN:VEVENT
DTSTART:20180911T163000Z
DTEND:20180911T180000Z
X-MICROSOFT-CDO-ALLDAYEVENT:FALSE
SUMMARY:YPQC at Noon: Getting Your Dream Job featuring Paul Rumler\, President & CEO\, Quad Cities Chamber
DESCRIPTION:Chamber President & CEO Paul Rumler has his dream job\, and he landed it as a young professional. What is your dream job and what steps can you take to get there? During a facilitated conversation\, Paul will talk about his career\, lessons learned along the way\, advice for other young professionals\, and his vision for the future of the Quad Cities region.\n\n \n\nPrior to his role as President & CEO of the Quad Cities Chamber\, Paul was the Chief Strategy Officer of the Grand Rapids Chamber. Before that\, he was with the Quad Cities Chamber and preceding organizations since 2006\, serving in roles ranging from talent attraction and retention\, community development\, public policy\, and economic development. He was heavily involved in initiatives including the Quad Cities Manufacturing Innovation Hub\, Q2030\, regional economic development\, Chicago to Quad Cities Passenger Rail\, and the redevelopment planning of SouthPark Mall. In 2015\, he was recognized as a "40 Under 40 Leader in Economic Development" Development Counsellors International.\n\n\n\n*If you need any special requirements to attend this meeting please contact Marcy Hyder mhyder@quadcitieschamber.com*\n\n\n\n*If you work for a company that is a member of the Chamber\, you are automatically a member of YPQC and attend at YPQC member prices. If your company is not a member of the Chamber\, you can join YPQC separately for $50/year. Contact Marcy Hyder at mhyder@quadcitieschamber.com or 563.823.2690.
X-ALT-DESC;FMTTYPE=text/html:<span style="font-size:16px\;"><span style="font-family:arial\;">Chamber President &amp\; CEO Paul Rumler has his dream job\, and he landed it as a young professional. What is your dream job and what steps can you take to get there? During a facilitated conversation\, Paul will talk about his career\, lessons learned along the way\, advice for other young professionals\, and his vision for the future of the Quad Cities region.<br />\n&nbsp\;<br />\n<span original_font_attr="-1" original_line_height_attr="">Prior to his role as President &amp\; CEO of the Quad Cities Chamber\, Paul was the Chief Strategy Officer of the Grand Rapids Chamber. Before that\, he was with the Quad Cities Chamber and preceding organizations since 2006\, serving in roles ranging from talent <span original_font_attr="-1" original_line_height_attr=""><span style="background:white\;"><span style="color:#273238\;">attraction and retention\, community development\, public policy\, and economic development. He was heavily involved in initiatives including the Quad Cities Manufacturing Innovation Hub\, Q2030\, regional economic development\, Chicago to Quad Cities Passenger Rail\, and the redevelopment planning of SouthPark Mall. In 2015\, he was recognized as a &ldquo\;40 Under 40 Leader in Economic Development&rdquo\; Development Counsellors International.</span></span></span></span></span></span><br />\n<br />\n<span style="font-size:16px\;"><span style="font-family:arial\;"><span mso-ascii-font-family:="" mso-ascii-theme-font:="" mso-hansi-font-family:="" mso-hansi-theme-font:="" new="" style="background-image:initial\;background-position:initial\;background-size:initial\;background-repeat:initial\;background-attachment:initial\;background-origin:initial\;background-clip:initial\;" times="">*If you need any special requirements to attend this meeting please contact Marcy Hyder mhyder@quadcitieschamber.com*</span><br background-color:="" font-size:="" trebuchet="" />\n<br background-color:="" font-size:="" trebuchet="" />\n<span mso-ascii-font-family:="" mso-ascii-theme-font:="" mso-hansi-font-family:="" mso-hansi-theme-font:="" new="" style="background-image:initial\;background-position:initial\;background-size:initial\;background-repeat:initial\;background-attachment:initial\;background-origin:initial\;background-clip:initial\;" times=""><span style="background-image:initial\;background-position:initial\;background-size:initial\;background-repeat:initial\;background-attachment:initial\;background-origin:initial\;background-clip:initial\;">*If you work for a company that is a member of the Chamber\, you are automatically a member of&nbsp\;<span data-scayt-lang="en_US" data-scayt-word="YPQC" style="background-image:url(&quot\;&quot\;)\;">YPQC</span>&nbsp\;and attend at&nbsp\;<span data-scayt-lang="en_US" data-scayt-word="YPQC" style="background-image:url(&quot\;&quot\;)\;">YPQC</span>&nbsp\;member prices. If your company is not a member of the Chamber\, you can join&nbsp\;<span data-scayt-lang="en_US" data-scayt-word="YPQC" style="background-image:url(&quot\;&quot\;)\;">YPQC</span>&nbsp\;separately for $50/year. Contact Marcy Hyder at&nbsp\;<a href="mailto:gaguilar@quadcitieschamber.com">mhyder@quadcitieschamber.com</a>&nbsp\;or 563.823.2690.</span></span></span></span><br />\n<br />\n&nbsp\;
LOCATION:MetroLINK Centre Station 1200 River Drive\, Moline\, IL 61265
UID:e.2843.8871
SEQUENCE:3
DTSTAMP:20260423T044251Z
URL:https://member.quadcitieschamber.com/events/details/ypqc-at-noon-getting-your-dream-job-featuring-paul-rumler-president-ceo-quad-cities-chamber-8871
END:VEVENT

END:VCALENDAR
