BEGIN:VCALENDAR
VERSION:2.0
PRODID:-//ChamberMaster//Event Calendar 2.0//EN
METHOD:PUBLISH
X-PUBLISHED-TTL:P3D
REFRESH-INTERVAL:P3D
CALSCALE:GREGORIAN
BEGIN:VEVENT
DTSTART:20180417T163000Z
DTEND:20180417T180000Z
X-MICROSOFT-CDO-ALLDAYEVENT:FALSE
SUMMARY:YPQC at Noon: Shaping the future of our region through the Quad Cities Big Table
DESCRIPTION:Are you passionate about building your community? Do you want to be a part of shaping the future of the region? Let's talk! On April 20 & 21\, people of all different backgrounds\, neighborhoods\, and interest groups will come together for the Quad Cities Big Table to discuss and imagine the future of the region. For young Quad Citizens this is your opportunity to get your voice heard and create positive change in the community.\n\n\n\nCome hear a panel of young change makers talk about important issues they are bringing to the table\, and participate in an open dialogue on your ideas and vision you have for the future our region.\n\n\n\nLaDrina Wilson\, Eastern Iowa Community College & YP Impact\n\nAleeza Singh\, Merrill Lynch\n\nAlvaro Macias\, Ascentra Credit Union\n\nJuan Valtierra\, Re-FL3X\n\n\n\n\n\n*If you need any special requirements to attend this meeting please contact Greg Aguilar at gaguilar@quadcitieschamber.com*\n\n\n\n*If you work for a company that is a member of the Chamber\, you are automatically a member of YPQC and attend at YPQC member prices. If your company is not a member of the Chamber\, you can join YPQC separately for $50/year. Contact Greg Aguilar at gaguilar@quadcitieschamber.com or 563.823.2659.
X-ALT-DESC;FMTTYPE=text/html:Are you passionate about building your community? Do you want to be a part of shaping the future of the region? Let&rsquo\;s talk! On April 20 &amp\; 21\, people of all different backgrounds\, neighborhoods\, and interest groups will come together for the Quad Cities Big Table to discuss and imagine the future of the region. For young Quad Citizens this is your opportunity to get your voice heard and create positive change in the community.<br />\n<br />\nCome hear a panel of young change makers talk about important issues they are bringing to the table\, and participate in an open dialogue on your ideas and vision you have for the future our region.<br />\n<br />\n<span style="color: rgb(75\, 79\, 86)\; font-family: Helvetica\, Arial\, sans-serif\;">LaDrina Wilson\,&nbsp\;</span>Eastern Iowa Community College<span style="color: rgb(75\, 79\, 86)\; font-family: Helvetica\, Arial\, sans-serif\;">&nbsp\;&amp\; YP Impact</span><br style="color: rgb(75\, 79\, 86)\; font-family: Helvetica\, Arial\, sans-serif\; font-size: 14px\;" />\n<span style="color: rgb(75\, 79\, 86)\; font-family: Helvetica\, Arial\, sans-serif\;">Aleeza Singh</span><span class="text_exposed_show" style="display: inline\; font-family: Helvetica\, Arial\, sans-serif\; color: rgb(75\, 79\, 86)\;">\, Merrill Lynch<br />\nAlvaro Macias\,&nbsp\;Ascentra Credit Union<br />\nJuan Valtierra\,&nbsp\;Re-FL3X</span><br />\n<br />\n<br />\n<span style="font-size:16px\;"><span style="font-family:arial\;"><span mso-ascii-font-family:="" mso-ascii-theme-font:="" mso-hansi-font-family:="" mso-hansi-theme-font:="" new="" style="background-image:initial\;background-position:initial\;background-size:initial\;background-repeat:initial\;background-attachment:initial\;background-origin:initial\;background-clip:initial\;" times="">*If you need any special requirements to attend this meeting please contact Greg Aguilar at gaguilar@quadcitieschamber.com*</span><br background-color:="" font-size:="" trebuchet="" />\n<br background-color:="" font-size:="" trebuchet="" />\n<span mso-ascii-font-family:="" mso-ascii-theme-font:="" mso-hansi-font-family:="" mso-hansi-theme-font:="" new="" style="background-image:initial\;background-position:initial\;background-size:initial\;background-repeat:initial\;background-attachment:initial\;background-origin:initial\;background-clip:initial\;" times=""><span style="background-image:initial\;background-position:initial\;background-size:initial\;background-repeat:initial\;background-attachment:initial\;background-origin:initial\;background-clip:initial\;">*If you work for a company that is a member of the Chamber\, you are automatically a member of&nbsp\;<span data-scayt-lang="en_US" data-scayt-word="YPQC" style="background-image:url(&quot\;&quot\;)\;">YPQC</span>&nbsp\;and attend at&nbsp\;<span data-scayt-lang="en_US" data-scayt-word="YPQC" style="background-image:url(&quot\;&quot\;)\;">YPQC</span>&nbsp\;member prices. If your company is not a member of the Chamber\, you can join&nbsp\;<span data-scayt-lang="en_US" data-scayt-word="YPQC" style="background-image:url(&quot\;&quot\;)\;">YPQC</span>&nbsp\;separately for $50/year. Contact Greg Aguilar at&nbsp\;<a href="mailto:gaguilar@quadcitieschamber.com"><span data-scayt-lang="en_US" data-scayt-word="gaguilar" style="background-image:url(&quot\;&quot\;)\;">gaguilar</span>@quadcitieschamber.com</a>&nbsp\;or 563.823.2659.</span></span></span></span><br />\n<br />\n&nbsp\;
LOCATION:CityView Celebrations at Trimble Pointe 701 12th St Moline\, IL 61265
UID:e.2843.8869
SEQUENCE:3
DTSTAMP:20260423T123611Z
URL:https://member.quadcitieschamber.com/events/details/ypqc-at-noon-shaping-the-future-of-our-region-through-the-quad-cities-big-table-8869
END:VEVENT

END:VCALENDAR
