BEGIN:VCALENDAR
VERSION:2.0
PRODID:-//ChamberMaster//Event Calendar 2.0//EN
METHOD:PUBLISH
X-PUBLISHED-TTL:P3D
REFRESH-INTERVAL:P3D
CALSCALE:GREGORIAN
BEGIN:VEVENT
DTSTART:20170712T044500Z
DTEND:20170711T180000Z
X-MICROSOFT-CDO-ALLDAYEVENT:FALSE
SUMMARY:YPQC Network @ Noon- Legislative Council (July 2017)
DESCRIPTION:InternQC and YPQC are teaming up to host some of our elected state and local leaders to have a panel discussion about being a young person in elected office. We will be at the Rogalski Center at St. Ambrose University where we will gather for a meal\, some networking\, and to connect with Senator Neil Anderson\, Alderman Jason Gordon\, Representative Mike Halpin\, and Representative Tony McCombie\, our YP elected leaders.\n\n\n\n\n\n*If you need any special requirements to attend this meeting please contact \n\nOlivia Bussert at obussert@quadcitieschamber.com\n\n\n\n*If you work for a company that is a member of the Chamber\, you are automatically a member of YPQC and attend at YPQC member prices. If your company is not a member of the Chamber\, you can join YPQC separately for $50/year. Contact Greg Aguilar at gaguilar@quadcitieschamber.com or 563.823.2659.
X-ALT-DESC;FMTTYPE=text/html:<span style="font-size:16px\;"><span style="font-family:arial\;">InternQC and YPQC are teaming up to host some of our elected state and local leaders to have a panel discussion about being a young person in elected office. We will be at the Rogalski Center at St. Ambrose University where we will gather for a meal\, some networking\, and to connect with Senator Neil Anderson\, Alderman Jason Gordon\, Representative Mike&nbsp\;Halpin\, and Representative Tony McCombie\, our YP elected leaders.</span></span><br />\n<br />\n<br style="color: rgb(51\, 51\, 51)\; font-family: sans-serif\, Arial\, Verdana\, &quot\;Trebuchet MS&quot\;\; font-size: 13px\; background-color: rgb(255\, 255\, 255)\;" />\n<span style="background-color: rgb(255\, 255\, 255)\; font-family: arial\; font-size: 16px\;">*If you need any special requirements to attend this meeting please contact&nbsp\;</span><br style="color: rgb(51\, 51\, 51)\; background-color: rgb(255\, 255\, 255)\; font-family: arial\; font-size: 16px\;" />\n<font face="arial" style="color: rgb(51\, 51\, 51)\; font-size: 13px\; background-color: rgb(255\, 255\, 255)\;"><span style="font-size: 16px\;">Olivia&nbsp\;Bussert&nbsp\;at&nbsp\;obussert@quadcitieschamber.com</span></font><br style="color: rgb(51\, 51\, 51)\; font-family: sans-serif\, Arial\, Verdana\, &quot\;Trebuchet MS&quot\;\; font-size: 13px\; background-color: rgb(255\, 255\, 255)\;" />\n<br style="color: rgb(51\, 51\, 51)\; font-family: sans-serif\, Arial\, Verdana\, &quot\;Trebuchet MS&quot\;\; font-size: 13px\; background-color: rgb(255\, 255\, 255)\;" />\n<span style="font-family: sans-serif\, Arial\, Verdana\, &quot\;Trebuchet MS&quot\;\; background-color: rgb(255\, 255\, 255)\; font-size: 16px\;"><span style="font-family: arial\;"><span mso-ascii-font-family:="" mso-ascii-theme-font:="" mso-hansi-font-family:="" mso-hansi-theme-font:="" new="" style="background-image: initial\; background-position: initial\; background-size: initial\; background-repeat: initial\; background-attachment: initial\; background-origin: initial\; background-clip: initial\;" times=""><span style="background-image: initial\; background-position: initial\; background-size: initial\; background-repeat: initial\; background-attachment: initial\; background-origin: initial\; background-clip: initial\;">*If you work for a company that is a member of the Chamber\, you are automatically a member of&nbsp\;<span data-scayt-lang="en_US" data-scayt-word="YPQC" style="background-image: url(&quot\;&quot\;)\;">YPQC</span>&nbsp\;and attend at&nbsp\;<span data-scayt-lang="en_US" data-scayt-word="YPQC" style="background-image: url(&quot\;&quot\;)\;">YPQC</span>&nbsp\;member prices. If your company is not a member of the Chamber\, you can join&nbsp\;<span data-scayt-lang="en_US" data-scayt-word="YPQC" style="background-image: url(&quot\;&quot\;)\;">YPQC</span>&nbsp\;separately for $50/year. Contact Greg Aguilar at&nbsp\;<a href="mailto:gaguilar@quadcitieschamber.com" style="color: rgb(7\, 130\, 193)\;"><span data-scayt-lang="en_US" data-scayt-word="gaguilar" style="background-image: url(&quot\;&quot\;)\;">gaguilar</span>@quadcitieschamber.com</a>&nbsp\;or 563.823.2659.</span></span></span></span>
LOCATION:St. Ambrose University Rogalski Center 518 W Locust St Davenport\, IA 52803
UID:e.2843.1399
SEQUENCE:3
DTSTAMP:20260424T002906Z
URL:https://member.quadcitieschamber.com/events/details/ypqc-network-noon-legislative-council-july-2017-1399
END:VEVENT

END:VCALENDAR
