BEGIN:VCALENDAR
VERSION:2.0
PRODID:-//ChamberMaster//Event Calendar 2.0//EN
METHOD:PUBLISH
X-PUBLISHED-TTL:P3D
REFRESH-INTERVAL:P3D
CALSCALE:GREGORIAN
BEGIN:VEVENT
DTSTART:20190709T230000Z
DTEND:20190710T010000Z
X-MICROSOFT-CDO-ALLDAYEVENT:FALSE
SUMMARY:Zenny at The Renny Yin Yoga & Sound Healing
DESCRIPTION:Zenny at The Renny Yin Yoga & Sound Healing\n\nBecky Nakashima Brooke w/ Illuminate Reiki Studios\n\nJuly 9\, 2019 // 6-8pm // $30\n\nThe Renwick Mansion: 901 Tremont Avenue Davenport\n\n\n\nFrom Illuminate Healing Studio\, Becky Nakashima Brooke's Yin Yoga Event is a unique practice of yoga\, because she offers Yin Yoga\, Reiki\, and Sound Healing all in one night. Yin Yoga is a practice to nurture the whole body and mind. With the longer floor-based poses in this class you are able to take time to really feel the sensations in the body and to reconnect through meditation. While you are in the poses you are nurturing the bones\, connective tissues\, joints\, and fascia. Using your breath\, body\, and mind you will be able to release into the poses experiencing the practice fully. Along with physical releases you may experience emotional releases as well.\n\n\n\nReiki is an energy healing system that originated in Japan. It encourages the body to release mental and physical blockages. The poses offer time for Becky to give everyone Reiki by placing her hands on or near the body. Becky is a Usui/Holy Fire  Reiki Karuna Reiki  Master and she has been working with Reiki for 8 years and have seen many benefits of its healing.\n\n\n\nOur bodies are made up of 60% water which makes them a wonderful conductor of sound vibration. During Savasana Becky will play sound healing music for you. Some of the instruments She uses during sound healing are Himalayan bowls\, crystal bowls\, gongs\, drums\, tuning forks\, shakers\, and a chimes.\n\n\n\nBenefits of this event:\n\n\n\n  Cultivate the mind body connection\n\n\n\n  Reduce stress and anxiety\n\n\n\n  Nurture and vitalize the bones\, connective tissues\, joints\, and fascia\n\n\n\n  Assist in releasing emotional and physical blockages\n\n\n\n  Harmonize the mind\, body\, and heart\n\n\n\n  Increase mobility in the body
X-ALT-DESC;FMTTYPE=text/html:<span style="background-color:rgb(255\, 255\, 255)\; color:rgb(29\, 33\, 41)\; font-family:helvetica\,arial\,sans-serif\; font-size:14px">Zenny at The Renny Yin Yoga &amp\; Sound Healing</span><br />\n<span style="background-color:rgb(255\, 255\, 255)\; color:rgb(29\, 33\, 41)\; font-family:helvetica\,arial\,sans-serif\; font-size:14px">Becky Nakashima Brooke w/ Illuminate Reiki Studios</span><br />\n<span style="background-color:rgb(255\, 255\, 255)\; color:rgb(29\, 33\, 41)\; font-family:helvetica\,arial\,sans-serif\; font-size:14px">July 9\, 2019 // 6-8pm // $30</span><br />\n<span style="background-color:rgb(255\, 255\, 255)\; color:rgb(29\, 33\, 41)\; font-family:helvetica\,arial\,sans-serif\; font-size:14px">The Renwick Mansion: 901 Tremont Avenue Davenport</span><br />\n<br />\n<span style="background-color:rgb(255\, 255\, 255)\; color:rgb(29\, 33\, 41)\; font-family:helvetica\,arial\,sans-serif\; font-size:14px">From Illuminate Healing Studio\, Becky Nakashima Brooke&#39\;s Yin Yoga Event is a unique practice of yoga\, because she offers Yin Yoga\, Reiki\, and Sound Healing all in one night. Yin Yoga is a practice to nurture the whole body and mind. With the longer floor-based poses in this class you are able to take time to really feel the sensations in the body and to reconnect through meditation. While you are in the poses you are nurturing the bones\, connective tissues\, joints\, and fascia. Using your breath\, body\, and mind you will be able to release into the poses experiencing the practice fully. Along with physical releases you may experience emotional releases as well.</span><br />\n<br />\n<span style="background-color:rgb(255\, 255\, 255)\; color:rgb(29\, 33\, 41)\; font-family:helvetica\,arial\,sans-serif\; font-size:14px">Reiki is an energy healing system that originated in Japan. It encourages the body to release mental and physical blockages. The poses offer time for Becky to give everyone Reiki by placing her hands on or near the body. Becky is a Usui/Holy Fire&reg\; Reiki Karuna Reiki&reg\; Master and she has been working with Reiki for 8 years and have seen many benefits of its healing.</span><br />\n<br />\n<span style="background-color:rgb(255\, 255\, 255)\; color:rgb(29\, 33\, 41)\; font-family:helvetica\,arial\,sans-serif\; font-size:14px">Our bodies are made up of 60% water which makes them a wonderful conductor of sound vibration. During Savasana Becky will play sound healing music for you. Some of the instruments She uses during sound healing are Himalayan bowls\, crystal bowls\, gongs\, drums\, tuning forks\, shakers\, and a chimes.</span><br />\n<br />\n<span style="background-color:rgb(255\, 255\, 255)\; color:rgb(29\, 33\, 41)\; font-family:helvetica\,arial\,sans-serif\; font-size:14px">Benefits of this event:</span><br />\n<br />\n<span style="background-color:rgb(255\, 255\, 255)\; color:rgb(29\, 33\, 41)\; font-family:helvetica\,arial\,sans-serif\; font-size:14px">&middot\; Cultivate the mind body connection</span><br />\n<br />\n<span style="background-color:rgb(255\, 255\, 255)\; color:rgb(29\, 33\, 41)\; font-family:helvetica\,arial\,sans-serif\; font-size:14px">&middot\; Reduce stress and anxiety</span><br />\n<br />\n<span style="background-color:rgb(255\, 255\, 255)\; color:rgb(29\, 33\, 41)\; font-family:helvetica\,arial\,sans-serif\; font-size:14px">&middot\; Nurture and vitalize the bones\, connective tissues\, joints\, and fascia</span><br />\n<br />\n<span style="background-color:rgb(255\, 255\, 255)\; color:rgb(29\, 33\, 41)\; font-family:helvetica\,arial\,sans-serif\; font-size:14px">&middot\; Assist in releasing emotional and physical blockages</span><br />\n<br />\n<span style="background-color:rgb(255\, 255\, 255)\; color:rgb(29\, 33\, 41)\; font-family:helvetica\,arial\,sans-serif\; font-size:14px">&middot\; Harmonize the mind\, body\, and heart</span><br />\n<br />\n<span style="background-color:rgb(255\, 255\, 255)\; color:rgb(29\, 33\, 41)\; font-family:helvetica\,arial\,sans-serif\; font-size:14px">&middot\; Increase mobility in the body</span>
LOCATION:The Renwick Mansion 901 Tremont Avenue Davenport\, IA 52803
UID:e.2843.15436
SEQUENCE:3
DTSTAMP:20260422T115439Z
URL:https://member.quadcitieschamber.com/events/details/zenny-at-the-renny-yin-yoga-sound-healing-15436
END:VEVENT

END:VCALENDAR
